{"text_format":"1","workbook":"xlsx","n_sheets":17,"sheets":["summary out","home","dist","start","end","service","demand","capacity","em","costin","truckin","cost","congestion","emroutes","visited","route","included"],"not_rendered":{"charts":0,"images":0,"macros":1,"external_links":0,"defined_names":0,"comments":0,"pivot_tables":0},"unopened":[],"bounds":{"document_bytes":16777216,"sheet_cells":100000,"rows_first":2000,"rows_last":500,"rows_between":2000,"halvings":0,"cell_chars":16384,"cell_head_chars":4096},"cells_cut":0,"cells_raw":0,"read":"whole","date_system":"1900"}

{"sheet":"summary out","index":0,"n_rows":61,"n_cols":21,"rows_kept":61,"cut":false,"hidden":false,"merged":[[0,1,0,4],[0,5,0,8],[0,9,0,12],[0,13,0,16],[0,17,0,20]]}
[null,"Route 1",null,null,null,"Route 2",null,null,null,"Route 3",null,null,null,"Route 4",null,null,null,"Route 5"]
["Sequence","Customer ID","Time Left 1","EM 1","Cost 1","Customer ID","Time Left 2","EM 2","Cost 2","Customer ID","Time Left 3","EM 3","Cost 3","Customer ID","Time Left 4","EM 4","Cost 4","Customer ID","Time Left 5","EM 5","Cost 5"]
[1,{"$f":"route!A1","v":1},null,null,null,{"$f":"route!B1","v":1},null,null,null,{"$f":"route!C1","v":1},null,null,null,{"$f":"route!D1","v":1},null,null,null,{"$f":"route!E1","v":0}]
[2,{"$f":"route!A2","v":2},{"$f":"visited!A2","v":156.60260009765625},{"$f":"emroutes!A2","v":0.58736044288835254},{"$f":"cost!A2","v":2.2744603157043457},{"$f":"route!B2","v":4},{"$f":"visited!B2","v":160.82051086425781},{"$f":"emroutes!B2","v":1.2854696737869904},{"$f":"cost!B2","v":3.8888881206512451},{"$f":"route!C2","v":58},{"$f":"visited!C2","v":160.47262573242187},{"$f":"emroutes!C2","v":0.65936662742932828},{"$f":"cost!C2","v":3.4714710712432861},{"$f":"route!D2","v":52},{"$f":"visited!D2","v":163.04446411132812},{"$f":"emroutes!D2","v":2.0918581897911155},{"$f":"cost!D2","v":4.9592685699462891},{"$f":"route!E2","v":0},{"$f":"visited!E2","v":0},{"$f":"emroutes!E2","v":0},{"$f":"cost!E2","v":0}]
[3,{"$f":"route!A3","v":3},{"$f":"visited!A3","v":163.39669799804687},{"$f":"emroutes!A3","v":0.31842640839732317},{"$f":"cost!A3","v":2.1974427700042725},{"$f":"route!B3","v":21},{"$f":"visited!B3","v":169.31575012207031},{"$f":"emroutes!B3","v":0.77206446572865683},{"$f":"cost!B3","v":2.9346041679382324},{"$f":"route!C3","v":35},{"$f":"visited!C3","v":169.10494995117187},{"$f":"emroutes!C3","v":0.80862063004938611},{"$f":"cost!C3","v":2.9940075874328613},{"$f":"route!D3","v":55},{"$f":"visited!D3","v":173.33212280273437},{"$f":"emroutes!D3","v":1.0367096141441769},{"$f":"cost!D3","v":3.6046526432037354},{"$f":"route!E3","v":0},{"$f":"visited!E3","v":0},{"$f":"emroutes!E3","v":0},{"$f":"cost!E3","v":0}]
[4,{"$f":"route!A4","v":47},{"$f":"visited!A4","v":171.23527526855469},{"$f":"emroutes!A4","v":0.70362019598475778},{"$f":"cost!A4","v":2.7033834457397461},{"$f":"route!B4","v":26},{"$f":"visited!B4","v":177.01951599121094},{"$f":"emroutes!B4","v":0.66767243012509436},{"$f":"cost!B4","v":2.6449661254882813},{"$f":"route!C4","v":34},{"$f":"visited!C4","v":176.31716918945312},{"$f":"emroutes!C4","v":0.32325804800372021},{"$f":"cost!C4","v":2.3252949714660645},{"$f":"route!D4","v":53},{"$f":"visited!D4","v":182.12132263183594},{"$f":"emroutes!D4","v":0.85045199114472192},{"$f":"cost!D4","v":3.061985969543457},{"$f":"route!E4","v":0},{"$f":"visited!E4","v":0},{"$f":"emroutes!E4","v":0},{"$f":"cost!E4","v":0}]
[5,{"$f":"route!A5","v":33},{"$f":"visited!A5","v":180.07823181152344},{"$f":"emroutes!A5","v":0.97145514494780949},{"$f":"cost!A5","v":3.1386146545410156},{"$f":"route!B5","v":29},{"$f":"visited!B5","v":186.21063232421875},{"$f":"emroutes!B5","v":0.53096470538399054},{"$f":"cost!B5","v":3.0228173732757568},{"$f":"route!C5","v":19},{"$f":"visited!C5","v":182.94064331054687},{"$f":"emroutes!C5","v":0.37959116501194906},{"$f":"cost!C5","v":2.1768379211425781},{"$f":"route!D5","v":51},{"$f":"visited!D5","v":188.27166748046875},{"$f":"emroutes!D5","v":0.14675673108404566},{"$f":"cost!D5","v":1.9184819459915161},{"$f":"route!E5","v":0},{"$f":"visited!E5","v":0},{"$f":"emroutes!E5","v":0},{"$f":"cost!E5","v":0}]
[6,{"$f":"route!A6","v":31},{"$f":"visited!A6","v":187.97978210449219},{"$f":"emroutes!A6","v":0.50707983658407829},{"$f":"cost!A6","v":2.6240050792694092},{"$f":"route!B6","v":28},{"$f":"visited!B6","v":193.40280151367187},{"$f":"emroutes!B6","v":0.10457694127631784},{"$f":"cost!B6","v":2.2099394798278809},{"$f":"route!C6","v":23},{"$f":"visited!C6","v":194.84059143066406},{"$f":"emroutes!C6","v":1.5733199464282939},{"$f":"cost!C6","v":4.3566446304321289},{"$f":"route!D6","v":50},{"$f":"visited!D6","v":193.77455139160156},{"$f":"emroutes!D6","v":8.0767974604736587E-2},{"$f":"cost!D6","v":1.6912492513656616},{"$f":"route!E6","v":0},{"$f":"visited!E6","v":0},{"$f":"emroutes!E6","v":0},{"$f":"cost!E6","v":0}]
[7,{"$f":"route!A7","v":57},{"$f":"visited!A7","v":194.33500671386719},{"$f":"emroutes!A7","v":0.20139134918536492},{"$f":"cost!A7","v":2.00726318359375},{"$f":"route!B7","v":18},{"$f":"visited!B7","v":201.33270263671875},{"$f":"emroutes!B7","v":0.62130756496620398},{"$f":"cost!B7","v":2.6896243095397949},{"$f":"route!C7","v":22},{"$f":"visited!C7","v":202.763427734375},{"$f":"emroutes!C7","v":0.19275696486350258},{"$f":"cost!C7","v":2.4732294082641602},{"$f":"route!D7","v":59},{"$f":"visited!D7","v":202.04606628417969},{"$f":"emroutes!D7","v":2.2057354177560184},{"$f":"cost!D7","v":3.5843222141265869},{"$f":"route!E7","v":0},{"$f":"visited!E7","v":0},{"$f":"emroutes!E7","v":0},{"$f":"cost!E7","v":0}]
[8,{"$f":"route!A8","v":32},{"$f":"visited!A8","v":202.04876708984375},{"$f":"emroutes!A8","v":0.35033464413159293},{"$f":"cost!A8","v":2.489295482635498},{"$f":"route!B8","v":16},{"$f":"visited!B8","v":209.60179138183594},{"$f":"emroutes!B8","v":0.71175543355798221},{"$f":"cost!B8","v":2.8366043567657471},{"$f":"route!C8","v":24},{"$f":"visited!C8","v":212.18548583984375},{"$f":"emroutes!C8","v":0.80588386662460532},{"$f":"cost!C8","v":3.2295594215393066},{"$f":"route!D8","v":0},{"$f":"visited!D8","v":0},{"$f":"emroutes!D8","v":0},{"$f":"cost!D8","v":0},{"$f":"route!E8","v":0},{"$f":"visited!E8","v":0},{"$f":"emroutes!E8","v":0},{"$f":"cost!E8","v":0}]
[9,{"$f":"route!A9","v":48},{"$f":"visited!A9","v":211.325927734375},{"$f":"emroutes!A9","v":1.0872434866171903},{"$f":"cost!A9","v":3.3267700672149658},{"$f":"route!B9","v":15},{"$f":"visited!B9","v":218.67155456542969},{"$f":"emroutes!B9","v":0.60527070347923617},{"$f":"cost!B9","v":3.023564338684082},{"$f":"route!C9","v":49},{"$f":"visited!C9","v":228.30685424804687},{"$f":"emroutes!C9","v":2.4856974148557773},{"$f":"cost!C9","v":6.0792593955993652},{"$f":"route!D9","v":0},{"$f":"visited!D9","v":0},{"$f":"emroutes!D9","v":0},{"$f":"cost!D9","v":0},{"$f":"route!E9","v":0},{"$f":"visited!E9","v":0},{"$f":"emroutes!E9","v":0},{"$f":"cost!E9","v":0}]
[10,{"$f":"route!A10","v":46},{"$f":"visited!A10","v":220.34815979003906},{"$f":"emroutes!A10","v":1.1259291009056509},{"$f":"cost!A10","v":3.2696342468261719},{"$f":"route!B10","v":12},{"$f":"visited!B10","v":228.12107849121094},{"$f":"emroutes!B10","v":0.91987363691118518},{"$f":"cost!B10","v":3.2947940826416016},{"$f":"route!C10","v":54},{"$f":"visited!C10","v":235.4249267578125},{"$f":"emroutes!C10","v":0.61815387391921039},{"$f":"cost!C10","v":2.4444987773895264},{"$f":"route!D10","v":0},{"$f":"visited!D10","v":0},{"$f":"emroutes!D10","v":0},{"$f":"cost!D10","v":0},{"$f":"route!E10","v":0},{"$f":"visited!E10","v":0},{"$f":"emroutes!E10","v":0},{"$f":"cost!E10","v":0}]
[11,{"$f":"route!A11","v":45},{"$f":"visited!A11","v":227.4833984375},{"$f":"emroutes!A11","v":0.30273127084824736},{"$f":"cost!A11","v":2.2919373512268066},{"$f":"route!B11","v":11},{"$f":"visited!B11","v":235.80064392089844},{"$f":"emroutes!B11","v":0.66121555488887951},{"$f":"cost!B11","v":2.6344776153564453},{"$f":"route!C11","v":56},{"$f":"visited!C11","v":246.54347229003906},{"$f":"emroutes!C11","v":1.2582786931698133},{"$f":"cost!C11","v":3.9647030830383301},{"$f":"route!D11","v":0},{"$f":"visited!D11","v":0},{"$f":"emroutes!D11","v":0},{"$f":"cost!D11","v":0},{"$f":"route!E11","v":0},{"$f":"visited!E11","v":0},{"$f":"emroutes!E11","v":0},{"$f":"cost!E11","v":0}]
[12,{"$f":"route!A12","v":44},{"$f":"visited!A12","v":234.68800354003906},{"$f":"emroutes!A12","v":0.10789660830698473},{"$f":"cost!A12","v":2.2153298854827881},{"$f":"route!B12","v":9},{"$f":"visited!B12","v":242.82460021972656},{"$f":"emroutes!B12","v":0.69971968851863575},{"$f":"cost!B12","v":2.4570467472076416},{"$f":"route!C12","v":14},{"$f":"visited!C12","v":259.26516723632812},{"$f":"emroutes!C12","v":1.1524515250768657},{"$f":"cost!C12","v":4.3927345275878906},{"$f":"route!D12","v":0},{"$f":"visited!D12","v":0},{"$f":"emroutes!D12","v":0},{"$f":"cost!D12","v":0},{"$f":"route!E12","v":0},{"$f":"visited!E12","v":0},{"$f":"emroutes!E12","v":0},{"$f":"cost!E12","v":0}]
[13,{"$f":"route!A13","v":43},{"$f":"visited!A13","v":240.77880859375},{"$f":"emroutes!A13","v":0.13088306707230965},{"$f":"cost!A13","v":1.8926831483840942},{"$f":"route!B13","v":10},{"$f":"visited!B13","v":247.62464904785156},{"$f":"emroutes!B13","v":1.3365742746285083E-5},{"$f":"cost!B13","v":1.440021276473999},{"$f":"route!C13","v":8},{"$f":"visited!C13","v":268.11636352539062},{"$f":"emroutes!C13","v":0.76031683986560361},{"$f":"cost!C13","v":3.0355174541473389},{"$f":"route!D13","v":0},{"$f":"visited!D13","v":0},{"$f":"emroutes!D13","v":0},{"$f":"cost!D13","v":0},{"$f":"route!E13","v":0},{"$f":"visited!E13","v":0},{"$f":"emroutes!E13","v":0},{"$f":"cost!E13","v":0}]
[14,{"$f":"route!A14","v":37},{"$f":"visited!A14","v":248.84272766113281},{"$f":"emroutes!A14","v":0.44370986540779206},{"$f":"cost!A14","v":2.6410307884216309},{"$f":"route!B14","v":13},{"$f":"visited!B14","v":256.00885009765625},{"$f":"emroutes!B14","v":0.52912429507656622},{"$f":"cost!B14","v":2.7798225879669189},{"$f":"route!C14","v":6},{"$f":"visited!C14","v":279.59039306640625},{"$f":"emroutes!C14","v":1.5664050144252533},{"$f":"cost!C14","v":4.2254114151000977},{"$f":"route!D14","v":0},{"$f":"visited!D14","v":0},{"$f":"emroutes!D14","v":0},{"$f":"cost!D14","v":0},{"$f":"route!E14","v":0},{"$f":"visited!E14","v":0},{"$f":"emroutes!E14","v":0},{"$f":"cost!E14","v":0}]
[15,{"$f":"route!A15","v":38},{"$f":"visited!A15","v":256.95904541015625},{"$f":"emroutes!A15","v":0.56435069143348049},{"$f":"cost!A15","v":2.7170708179473877},{"$f":"route!B15","v":17},{"$f":"visited!B15","v":266.24099731445312},{"$f":"emroutes!B15","v":1.3419096208720114},{"$f":"cost!B15","v":3.7405991554260254},{"$f":"route!C15","v":7},{"$f":"visited!C15","v":286.48849487304687},{"$f":"emroutes!C15","v":0.23949569961556397},{"$f":"cost!C15","v":2.189178466796875},{"$f":"route!D15","v":0},{"$f":"visited!D15","v":0},{"$f":"emroutes!D15","v":0},{"$f":"cost!D15","v":0},{"$f":"route!E15","v":0},{"$f":"visited!E15","v":0},{"$f":"emroutes!E15","v":0},{"$f":"cost!E15","v":0}]
[16,{"$f":"route!A16","v":39},{"$f":"visited!A16","v":267.5257568359375},{"$f":"emroutes!A16","v":0.68445572756718498},{"$f":"cost!A16","v":3.5122413635253906},{"$f":"route!B16","v":30},{"$f":"visited!B16","v":272.62417602539062},{"$f":"emroutes!B16","v":0.42218256421501033},{"$f":"cost!B16","v":2.1260449886322021},{"$f":"route!C16","v":5},{"$f":"visited!C16","v":293.69424438476562},{"$f":"emroutes!C16","v":0.20153607161432144},{"$f":"cost!C16","v":2.2624928951263428},{"$f":"route!D16","v":0},{"$f":"visited!D16","v":0},{"$f":"emroutes!D16","v":0},{"$f":"cost!D16","v":0},{"$f":"route!E16","v":0},{"$f":"visited!E16","v":0},{"$f":"emroutes!E16","v":0},{"$f":"cost!E16","v":0}]
[17,{"$f":"route!A17","v":40},{"$f":"visited!A17","v":273.769775390625},{"$f":"emroutes!A17","v":0.27840252573092089},{"$f":"cost!A17","v":2.0124070644378662},{"$f":"route!B17","v":27},{"$f":"visited!B17","v":283.83920288085937},{"$f":"emroutes!B17","v":0.64400335356439764},{"$f":"cost!B17","v":3.6865098476409912},{"$f":"route!C17","v":59},{"$f":"visited!C17","v":308.45440673828125},{"$f":"emroutes!C17","v":3.9360424387276023},{"$f":"cost!C17","v":6.3960700035095215},{"$f":"route!D17","v":0},{"$f":"visited!D17","v":0},{"$f":"emroutes!D17","v":0},{"$f":"cost!D17","v":0},{"$f":"route!E17","v":0},{"$f":"visited!E17","v":0},{"$f":"emroutes!E17","v":0},{"$f":"cost!E17","v":0}]
[18,{"$f":"route!A18","v":41},{"$f":"visited!A18","v":281.9769287109375},{"$f":"emroutes!A18","v":0.37524446790837823},{"$f":"cost!A18","v":2.6497683525085449},{"$f":"route!B18","v":25},{"$f":"visited!B18","v":293.86959838867187},{"$f":"emroutes!B18","v":0.3281037056023261},{"$f":"cost!B18","v":3.1731705665588379},{"$f":"route!C18","v":0},{"$f":"visited!C18","v":0},{"$f":"emroutes!C18","v":0},{"$f":"cost!C18","v":0},{"$f":"route!D18","v":0},{"$f":"visited!D18","v":0},{"$f":"emroutes!D18","v":0},{"$f":"cost!D18","v":0},{"$f":"route!E18","v":0},{"$f":"visited!E18","v":0},{"$f":"emroutes!E18","v":0},{"$f":"cost!E18","v":0}]
[19,{"$f":"route!A19","v":42},{"$f":"visited!A19","v":287.79290771484375},{"$f":"emroutes!A19","v":5.7596604167456274E-2},{"$f":"cost!A19","v":1.7735921144485474},{"$f":"route!B19","v":20},{"$f":"visited!B19","v":300.94573974609375},{"$f":"emroutes!B19","v":0.71363800061803473},{"$f":"cost!B19","v":2.4796614646911621},{"$f":"route!C19","v":0},{"$f":"visited!C19","v":0},{"$f":"emroutes!C19","v":0},{"$f":"cost!C19","v":0},{"$f":"route!D19","v":0},{"$f":"visited!D19","v":0},{"$f":"emroutes!D19","v":0},{"$f":"cost!D19","v":0},{"$f":"route!E19","v":0},{"$f":"visited!E19","v":0},{"$f":"emroutes!E19","v":0},{"$f":"cost!E19","v":0}]
[20,{"$f":"route!A20","v":36},{"$f":"visited!A20","v":295.27352905273438},{"$f":"emroutes!A20","v":0.60816295639833406},{"$f":"cost!A20","v":2.5482680797576904},{"$f":"route!B20","v":59},{"$f":"visited!B20","v":304.89071655273438},{"$f":"emroutes!B20","v":1.0519913532078924},{"$f":"cost!B20","v":1.7094887495040894},{"$f":"route!C20","v":0},{"$f":"visited!C20","v":0},{"$f":"emroutes!C20","v":0},{"$f":"cost!C20","v":0},{"$f":"route!D20","v":0},{"$f":"visited!D20","v":0},{"$f":"emroutes!D20","v":0},{"$f":"cost!D20","v":0},{"$f":"route!E20","v":0},{"$f":"visited!E20","v":0},{"$f":"emroutes!E20","v":0}," "]
[21,{"$f":"route!A21","v":59},{"$f":"visited!A21","v":297.407470703125},{"$f":"emroutes!A21","v":0.56904763517947043},{"$f":"cost!A21","v":0.92470633983612061},{"$f":"route!B21","v":0},{"$f":"visited!B21","v":0},{"$f":"emroutes!B21","v":0},{"$f":"cost!B21","v":0},{"$f":"route!C21","v":0},{"$f":"visited!C21","v":0},{"$f":"emroutes!C21","v":0},{"$f":"cost!C21","v":0},{"$f":"route!D21","v":0},{"$f":"visited!D21","v":0},{"$f":"emroutes!D21","v":0},{"$f":"cost!D21","v":0},{"$f":"route!E21","v":0},{"$f":"visited!E21","v":0},{"$f":"emroutes!E21","v":0},{"$f":"cost!E21","v":0}]
[22,{"$f":"route!A22","v":0},{"$f":"visited!A22","v":0},{"$f":"emroutes!A22","v":0},{"$f":"cost!A22","v":0},{"$f":"route!B22","v":0},{"$f":"visited!B22","v":0},{"$f":"emroutes!B22","v":0},{"$f":"cost!B22","v":0},{"$f":"route!C22","v":0},{"$f":"visited!C22","v":0},{"$f":"emroutes!C22","v":0},{"$f":"cost!C22","v":0},{"$f":"route!D22","v":0},{"$f":"visited!D22","v":0},{"$f":"emroutes!D22","v":0},{"$f":"cost!D22","v":0},{"$f":"route!E22","v":0},{"$f":"visited!E22","v":0},{"$f":"emroutes!E22","v":0},{"$f":"cost!E22","v":0}]
[23,{"$f":"route!A23","v":0},{"$f":"visited!A23","v":0},{"$f":"emroutes!A23","v":0},{"$f":"cost!A23","v":0},{"$f":"route!B23","v":0},{"$f":"visited!B23","v":0},{"$f":"emroutes!B23","v":0},{"$f":"cost!B23","v":0},{"$f":"route!C23","v":0},{"$f":"visited!C23","v":0},{"$f":"emroutes!C23","v":0},{"$f":"cost!C23","v":0},{"$f":"route!D23","v":0},{"$f":"visited!D23","v":0},{"$f":"emroutes!D23","v":0},{"$f":"cost!D23","v":0},{"$f":"route!E23","v":0},{"$f":"visited!E23","v":0},{"$f":"emroutes!E23","v":0},{"$f":"cost!E23","v":0}]
[24,{"$f":"route!A24","v":0},{"$f":"visited!A24","v":0},{"$f":"emroutes!A24","v":0},{"$f":"cost!A24","v":0},{"$f":"route!B24","v":0},{"$f":"visited!B24","v":0},{"$f":"emroutes!B24","v":0},{"$f":"cost!B24","v":0},{"$f":"route!C24","v":0},{"$f":"visited!C24","v":0},{"$f":"emroutes!C24","v":0},{"$f":"cost!C24","v":0},{"$f":"route!D24","v":0},{"$f":"visited!D24","v":0},{"$f":"emroutes!D24","v":0},{"$f":"cost!D24","v":0},{"$f":"route!E24","v":0},{"$f":"visited!E24","v":0},{"$f":"emroutes!E24","v":0},{"$f":"cost!E24","v":0}]
[25,{"$f":"route!A25","v":0},{"$f":"visited!A25","v":0},{"$f":"emroutes!A25","v":0},{"$f":"cost!A25","v":0},{"$f":"route!B25","v":0},{"$f":"visited!B25","v":0},{"$f":"emroutes!B25","v":0},{"$f":"cost!B25","v":0},{"$f":"route!C25","v":0},{"$f":"visited!C25","v":0},{"$f":"emroutes!C25","v":0},{"$f":"cost!C25","v":0},{"$f":"route!D25","v":0},{"$f":"visited!D25","v":0},{"$f":"emroutes!D25","v":0},{"$f":"cost!D25","v":0},{"$f":"route!E25","v":0},{"$f":"visited!E25","v":0},{"$f":"emroutes!E25","v":0},{"$f":"cost!E25","v":0}]
[26,{"$f":"route!A26","v":0},{"$f":"visited!A26","v":0},{"$f":"emroutes!A26","v":0},{"$f":"cost!A26","v":0},{"$f":"route!B26","v":0},{"$f":"visited!B26","v":0},{"$f":"emroutes!B26","v":0},{"$f":"cost!B26","v":0},{"$f":"route!C26","v":0},{"$f":"visited!C26","v":0},{"$f":"emroutes!C26","v":0},{"$f":"cost!C26","v":0},{"$f":"route!D26","v":0},{"$f":"visited!D26","v":0},{"$f":"emroutes!D26","v":0},{"$f":"cost!D26","v":0},{"$f":"route!E26","v":0},{"$f":"visited!E26","v":0},{"$f":"emroutes!E26","v":0},{"$f":"cost!E26","v":0}]
[27,{"$f":"route!A27","v":0},{"$f":"visited!A27","v":0},{"$f":"emroutes!A27","v":0},{"$f":"cost!A27","v":0},{"$f":"route!B27","v":0},{"$f":"visited!B27","v":0},{"$f":"emroutes!B27","v":0},{"$f":"cost!B27","v":0},{"$f":"route!C27","v":0},{"$f":"visited!C27","v":0},{"$f":"emroutes!C27","v":0},{"$f":"cost!C27","v":0},{"$f":"route!D27","v":0},{"$f":"visited!D27","v":0},{"$f":"emroutes!D27","v":0},{"$f":"cost!D27","v":0},{"$f":"route!E27","v":0},{"$f":"visited!E27","v":0},{"$f":"emroutes!E27","v":0},{"$f":"cost!E27","v":0}]
[28,{"$f":"route!A28","v":0},{"$f":"visited!A28","v":0},{"$f":"emroutes!A28","v":0},{"$f":"cost!A28","v":0},{"$f":"route!B28","v":0},{"$f":"visited!B28","v":0},{"$f":"emroutes!B28","v":0},{"$f":"cost!B28","v":0},{"$f":"route!C28","v":0},{"$f":"visited!C28","v":0},{"$f":"emroutes!C28","v":0},{"$f":"cost!C28","v":0},{"$f":"route!D28","v":0},{"$f":"visited!D28","v":0},{"$f":"emroutes!D28","v":0},{"$f":"cost!D28","v":0},{"$f":"route!E28","v":0},{"$f":"visited!E28","v":0},{"$f":"emroutes!E28","v":0},{"$f":"cost!E28","v":0}]
[29,{"$f":"route!A29","v":0},{"$f":"visited!A29","v":0},{"$f":"emroutes!A29","v":0},{"$f":"cost!A29","v":0},{"$f":"route!B29","v":0},{"$f":"visited!B29","v":0},{"$f":"emroutes!B29","v":0},{"$f":"cost!B29","v":0},{"$f":"route!C29","v":0},{"$f":"visited!C29","v":0},{"$f":"emroutes!C29","v":0},{"$f":"cost!C29","v":0},{"$f":"route!D29","v":0},{"$f":"visited!D29","v":0},{"$f":"emroutes!D29","v":0},{"$f":"cost!D29","v":0},{"$f":"route!E29","v":0},{"$f":"visited!E29","v":0},{"$f":"emroutes!E29","v":0},{"$f":"cost!E29","v":0}]
[30,{"$f":"route!A30","v":0},{"$f":"visited!A30","v":0},{"$f":"emroutes!A30","v":0},{"$f":"cost!A30","v":0},{"$f":"route!B30","v":0},{"$f":"visited!B30","v":0},{"$f":"emroutes!B30","v":0},{"$f":"cost!B30","v":0},{"$f":"route!C30","v":0},{"$f":"visited!C30","v":0},{"$f":"emroutes!C30","v":0},{"$f":"cost!C30","v":0},{"$f":"route!D30","v":0},{"$f":"visited!D30","v":0},{"$f":"emroutes!D30","v":0},{"$f":"cost!D30","v":0},{"$f":"route!E30","v":0},{"$f":"visited!E30","v":0},{"$f":"emroutes!E30","v":0},{"$f":"cost!E30","v":0}]
[31,{"$f":"route!A31","v":0},{"$f":"visited!A31","v":0},{"$f":"emroutes!A31","v":0},{"$f":"cost!A31","v":0},{"$f":"route!B31","v":0},{"$f":"visited!B31","v":0},{"$f":"emroutes!B31","v":0},{"$f":"cost!B31","v":0},{"$f":"route!C31","v":0},{"$f":"visited!C31","v":0},{"$f":"emroutes!C31","v":0},{"$f":"cost!C31","v":0},{"$f":"route!D31","v":0},{"$f":"visited!D31","v":0},{"$f":"emroutes!D31","v":0},{"$f":"cost!D31","v":0},{"$f":"route!E31","v":0},{"$f":"visited!E31","v":0},{"$f":"emroutes!E31","v":0},{"$f":"cost!E31","v":0}]
[32,{"$f":"route!A32","v":0},{"$f":"visited!A32","v":0},{"$f":"emroutes!A32","v":0},{"$f":"cost!A32","v":0},{"$f":"route!B32","v":0},{"$f":"visited!B32","v":0},{"$f":"emroutes!B32","v":0},{"$f":"cost!B32","v":0},{"$f":"route!C32","v":0},{"$f":"visited!C32","v":0},{"$f":"emroutes!C32","v":0},{"$f":"cost!C32","v":0},{"$f":"route!D32","v":0},{"$f":"visited!D32","v":0},{"$f":"emroutes!D32","v":0},{"$f":"cost!D32","v":0},{"$f":"route!E32","v":0},{"$f":"visited!E32","v":0},{"$f":"emroutes!E32","v":0},{"$f":"cost!E32","v":0}]
[33,{"$f":"route!A33","v":0},{"$f":"visited!A33","v":0},{"$f":"emroutes!A33","v":0},{"$f":"cost!A33","v":0},{"$f":"route!B33","v":0},{"$f":"visited!B33","v":0},{"$f":"emroutes!B33","v":0},{"$f":"cost!B33","v":0},{"$f":"route!C33","v":0},{"$f":"visited!C33","v":0},{"$f":"emroutes!C33","v":0},{"$f":"cost!C33","v":0},{"$f":"route!D33","v":0},{"$f":"visited!D33","v":0},{"$f":"emroutes!D33","v":0},{"$f":"cost!D33","v":0},{"$f":"route!E33","v":0},{"$f":"visited!E33","v":0},{"$f":"emroutes!E33","v":0},{"$f":"cost!E33","v":0}]
[34,{"$f":"route!A34","v":0},{"$f":"visited!A34","v":0},{"$f":"emroutes!A34","v":0},{"$f":"cost!A34","v":0},{"$f":"route!B34","v":0},{"$f":"visited!B34","v":0},{"$f":"emroutes!B34","v":0},{"$f":"cost!B34","v":0},{"$f":"route!C34","v":0},{"$f":"visited!C34","v":0},{"$f":"emroutes!C34","v":0},{"$f":"cost!C34","v":0},{"$f":"route!D34","v":0},{"$f":"visited!D34","v":0},{"$f":"emroutes!D34","v":0},{"$f":"cost!D34","v":0},{"$f":"route!E34","v":0},{"$f":"visited!E34","v":0},{"$f":"emroutes!E34","v":0},{"$f":"cost!E34","v":0}]
[35,{"$f":"route!A35","v":0},{"$f":"visited!A35","v":0},{"$f":"emroutes!A35","v":0},{"$f":"cost!A35","v":0},{"$f":"route!B35","v":0},{"$f":"visited!B35","v":0},{"$f":"emroutes!B35","v":0},{"$f":"cost!B35","v":0},{"$f":"route!C35","v":0},{"$f":"visited!C35","v":0},{"$f":"emroutes!C35","v":0},{"$f":"cost!C35","v":0},{"$f":"route!D35","v":0},{"$f":"visited!D35","v":0},{"$f":"emroutes!D35","v":0},{"$f":"cost!D35","v":0},{"$f":"route!E35","v":0},{"$f":"visited!E35","v":0},{"$f":"emroutes!E35","v":0},{"$f":"cost!E35","v":0}]
[36,{"$f":"route!A36","v":0},{"$f":"visited!A36","v":0},{"$f":"emroutes!A36","v":0},{"$f":"cost!A36","v":0},{"$f":"route!B36","v":0},{"$f":"visited!B36","v":0},{"$f":"emroutes!B36","v":0},{"$f":"cost!B36","v":0},{"$f":"route!C36","v":0},{"$f":"visited!C36","v":0},{"$f":"emroutes!C36","v":0},{"$f":"cost!C36","v":0},{"$f":"route!D36","v":0},{"$f":"visited!D36","v":0},{"$f":"emroutes!D36","v":0},{"$f":"cost!D36","v":0},{"$f":"route!E36","v":0},{"$f":"visited!E36","v":0},{"$f":"emroutes!E36","v":0},{"$f":"cost!E36","v":0}]
[37,{"$f":"route!A37","v":0},{"$f":"visited!A37","v":0},{"$f":"emroutes!A37","v":0},{"$f":"cost!A37","v":0},{"$f":"route!B37","v":0},{"$f":"visited!B37","v":0},{"$f":"emroutes!B37","v":0},{"$f":"cost!B37","v":0},{"$f":"route!C37","v":0},{"$f":"visited!C37","v":0},{"$f":"emroutes!C37","v":0},{"$f":"cost!C37","v":0},{"$f":"route!D37","v":0},{"$f":"visited!D37","v":0},{"$f":"emroutes!D37","v":0},{"$f":"cost!D37","v":0},{"$f":"route!E37","v":0},{"$f":"visited!E37","v":0},{"$f":"emroutes!E37","v":0},{"$f":"cost!E37","v":0}]
[38,{"$f":"route!A38","v":0},{"$f":"visited!A38","v":0},{"$f":"emroutes!A38","v":0},{"$f":"cost!A38","v":0},{"$f":"route!B38","v":0},{"$f":"visited!B38","v":0},{"$f":"emroutes!B38","v":0},{"$f":"cost!B38","v":0},{"$f":"route!C38","v":0},{"$f":"visited!C38","v":0},{"$f":"emroutes!C38","v":0},{"$f":"cost!C38","v":0},{"$f":"route!D38","v":0},{"$f":"visited!D38","v":0},{"$f":"emroutes!D38","v":0},{"$f":"cost!D38","v":0},{"$f":"route!E38","v":0},{"$f":"visited!E38","v":0},{"$f":"emroutes!E38","v":0},{"$f":"cost!E38","v":0}]
[39,{"$f":"route!A39","v":0},{"$f":"visited!A39","v":0},{"$f":"emroutes!A39","v":0},{"$f":"cost!A39","v":0},{"$f":"route!B39","v":0},{"$f":"visited!B39","v":0},{"$f":"emroutes!B39","v":0},{"$f":"cost!B39","v":0},{"$f":"route!C39","v":0},{"$f":"visited!C39","v":0},{"$f":"emroutes!C39","v":0},{"$f":"cost!C39","v":0},{"$f":"route!D39","v":0},{"$f":"visited!D39","v":0},{"$f":"emroutes!D39","v":0},{"$f":"cost!D39","v":0},{"$f":"route!E39","v":0},{"$f":"visited!E39","v":0},{"$f":"emroutes!E39","v":0},{"$f":"cost!E39","v":0}]
[40,{"$f":"route!A40","v":0},{"$f":"visited!A40","v":0},{"$f":"emroutes!A40","v":0},{"$f":"cost!A40","v":0},{"$f":"route!B40","v":0},{"$f":"visited!B40","v":0},{"$f":"emroutes!B40","v":0},{"$f":"cost!B40","v":0},{"$f":"route!C40","v":0},{"$f":"visited!C40","v":0},{"$f":"emroutes!C40","v":0},{"$f":"cost!C40","v":0},{"$f":"route!D40","v":0},{"$f":"visited!D40","v":0},{"$f":"emroutes!D40","v":0},{"$f":"cost!D40","v":0},{"$f":"route!E40","v":0},{"$f":"visited!E40","v":0},{"$f":"emroutes!E40","v":0},{"$f":"cost!E40","v":0}]
[41,{"$f":"route!A41","v":0},{"$f":"visited!A41","v":0},{"$f":"emroutes!A41","v":0},{"$f":"cost!A41","v":0},{"$f":"route!B41","v":0},{"$f":"visited!B41","v":0},{"$f":"emroutes!B41","v":0},{"$f":"cost!B41","v":0},{"$f":"route!C41","v":0},{"$f":"visited!C41","v":0},{"$f":"emroutes!C41","v":0},{"$f":"cost!C41","v":0},{"$f":"route!D41","v":0},{"$f":"visited!D41","v":0},{"$f":"emroutes!D41","v":0},{"$f":"cost!D41","v":0},{"$f":"route!E41","v":0},{"$f":"visited!E41","v":0},{"$f":"emroutes!E41","v":0},{"$f":"cost!E41","v":0}]
[42,{"$f":"route!A42","v":0},{"$f":"visited!A42","v":0},{"$f":"emroutes!A42","v":0},{"$f":"cost!A42","v":0},{"$f":"route!B42","v":0},{"$f":"visited!B42","v":0},{"$f":"emroutes!B42","v":0},{"$f":"cost!B42","v":0},{"$f":"route!C42","v":0},{"$f":"visited!C42","v":0},{"$f":"emroutes!C42","v":0},{"$f":"cost!C42","v":0},{"$f":"route!D42","v":0},{"$f":"visited!D42","v":0},{"$f":"emroutes!D42","v":0},{"$f":"cost!D42","v":0},{"$f":"route!E42","v":0},{"$f":"visited!E42","v":0},{"$f":"emroutes!E42","v":0},{"$f":"cost!E42","v":0}]
[43,{"$f":"route!A43","v":0},{"$f":"visited!A43","v":0},{"$f":"emroutes!A43","v":0},{"$f":"cost!A43","v":0},{"$f":"route!B43","v":0},{"$f":"visited!B43","v":0},{"$f":"emroutes!B43","v":0},{"$f":"cost!B43","v":0},{"$f":"route!C43","v":0},{"$f":"visited!C43","v":0},{"$f":"emroutes!C43","v":0},{"$f":"cost!C43","v":0},{"$f":"route!D43","v":0},{"$f":"visited!D43","v":0},{"$f":"emroutes!D43","v":0},{"$f":"cost!D43","v":0},{"$f":"route!E43","v":0},{"$f":"visited!E43","v":0},{"$f":"emroutes!E43","v":0},{"$f":"cost!E43","v":0}]
[44,{"$f":"route!A44","v":0},{"$f":"visited!A44","v":0},{"$f":"emroutes!A44","v":0},{"$f":"cost!A44","v":0},{"$f":"route!B44","v":0},{"$f":"visited!B44","v":0},{"$f":"emroutes!B44","v":0},{"$f":"cost!B44","v":0},{"$f":"route!C44","v":0},{"$f":"visited!C44","v":0},{"$f":"emroutes!C44","v":0},{"$f":"cost!C44","v":0},{"$f":"route!D44","v":0},{"$f":"visited!D44","v":0},{"$f":"emroutes!D44","v":0},{"$f":"cost!D44","v":0},{"$f":"route!E44","v":0},{"$f":"visited!E44","v":0},{"$f":"emroutes!E44","v":0},{"$f":"cost!E44","v":0}]
[45,{"$f":"route!A45","v":0},{"$f":"visited!A45","v":0},{"$f":"emroutes!A45","v":0},{"$f":"cost!A45","v":0},{"$f":"route!B45","v":0},{"$f":"visited!B45","v":0},{"$f":"emroutes!B45","v":0},{"$f":"cost!B45","v":0},{"$f":"route!C45","v":0},{"$f":"visited!C45","v":0},{"$f":"emroutes!C45","v":0},{"$f":"cost!C45","v":0},{"$f":"route!D45","v":0},{"$f":"visited!D45","v":0},{"$f":"emroutes!D45","v":0},{"$f":"cost!D45","v":0},{"$f":"route!E45","v":0},{"$f":"visited!E45","v":0},{"$f":"emroutes!E45","v":0},{"$f":"cost!E45","v":0}]
[46,{"$f":"route!A46","v":0},{"$f":"visited!A46","v":0},{"$f":"emroutes!A46","v":0},{"$f":"cost!A46","v":0},{"$f":"route!B46","v":0},{"$f":"visited!B46","v":0},{"$f":"emroutes!B46","v":0},{"$f":"cost!B46","v":0},{"$f":"route!C46","v":0},{"$f":"visited!C46","v":0},{"$f":"emroutes!C46","v":0},{"$f":"cost!C46","v":0},{"$f":"route!D46","v":0},{"$f":"visited!D46","v":0},{"$f":"emroutes!D46","v":0},{"$f":"cost!D46","v":0},{"$f":"route!E46","v":0},{"$f":"visited!E46","v":0},{"$f":"emroutes!E46","v":0},{"$f":"cost!E46","v":0}]
[47,{"$f":"route!A47","v":0},{"$f":"visited!A47","v":0},{"$f":"emroutes!A47","v":0},{"$f":"cost!A47","v":0},{"$f":"route!B47","v":0},{"$f":"visited!B47","v":0},{"$f":"emroutes!B47","v":0},{"$f":"cost!B47","v":0},{"$f":"route!C47","v":0},{"$f":"visited!C47","v":0},{"$f":"emroutes!C47","v":0},{"$f":"cost!C47","v":0},{"$f":"route!D47","v":0},{"$f":"visited!D47","v":0},{"$f":"emroutes!D47","v":0},{"$f":"cost!D47","v":0},{"$f":"route!E47","v":0},{"$f":"visited!E47","v":0},{"$f":"emroutes!E47","v":0},{"$f":"cost!E47","v":0}]
[48,{"$f":"route!A48","v":0},{"$f":"visited!A48","v":0},{"$f":"emroutes!A48","v":0},{"$f":"cost!A48","v":0},{"$f":"route!B48","v":0},{"$f":"visited!B48","v":0},{"$f":"emroutes!B48","v":0},{"$f":"cost!B48","v":0},{"$f":"route!C48","v":0},{"$f":"visited!C48","v":0},{"$f":"emroutes!C48","v":0},{"$f":"cost!C48","v":0},{"$f":"route!D48","v":0},{"$f":"visited!D48","v":0},{"$f":"emroutes!D48","v":0},{"$f":"cost!D48","v":0},{"$f":"route!E48","v":0},{"$f":"visited!E48","v":0},{"$f":"emroutes!E48","v":0},{"$f":"cost!E48","v":0}]
[49,{"$f":"route!A49","v":0},{"$f":"visited!A49","v":0},{"$f":"emroutes!A49","v":0},{"$f":"cost!A49","v":0},{"$f":"route!B49","v":0},{"$f":"visited!B49","v":0},{"$f":"emroutes!B49","v":0},{"$f":"cost!B49","v":0},{"$f":"route!C49","v":0},{"$f":"visited!C49","v":0},{"$f":"emroutes!C49","v":0},{"$f":"cost!C49","v":0},{"$f":"route!D49","v":0},{"$f":"visited!D49","v":0},{"$f":"emroutes!D49","v":0},{"$f":"cost!D49","v":0},{"$f":"route!E49","v":0},{"$f":"visited!E49","v":0},{"$f":"emroutes!E49","v":0},{"$f":"cost!E49","v":0}]
[50,{"$f":"route!A50","v":0},{"$f":"visited!A50","v":0},{"$f":"emroutes!A50","v":0},{"$f":"cost!A50","v":0},{"$f":"route!B50","v":0},{"$f":"visited!B50","v":0},{"$f":"emroutes!B50","v":0},{"$f":"cost!B50","v":0},{"$f":"route!C50","v":0},{"$f":"visited!C50","v":0},{"$f":"emroutes!C50","v":0},{"$f":"cost!C50","v":0},{"$f":"route!D50","v":0},{"$f":"visited!D50","v":0},{"$f":"emroutes!D50","v":0},{"$f":"cost!D50","v":0},{"$f":"route!E50","v":0},{"$f":"visited!E50","v":0},{"$f":"emroutes!E50","v":0},{"$f":"cost!E50","v":0}]
[51,{"$f":"route!A51","v":0},{"$f":"visited!A51","v":0},{"$f":"emroutes!A51","v":0},{"$f":"cost!A51","v":0},{"$f":"route!B51","v":0},{"$f":"visited!B51","v":0},{"$f":"emroutes!B51","v":0},{"$f":"cost!B51","v":0},{"$f":"route!C51","v":0},{"$f":"visited!C51","v":0},{"$f":"emroutes!C51","v":0},{"$f":"cost!C51","v":0},{"$f":"route!D51","v":0},{"$f":"visited!D51","v":0},{"$f":"emroutes!D51","v":0},{"$f":"cost!D51","v":0},{"$f":"route!E51","v":0},{"$f":"visited!E51","v":0},{"$f":"emroutes!E51","v":0},{"$f":"cost!E51","v":0}]
[52,{"$f":"route!A52","v":0},{"$f":"visited!A52","v":0},{"$f":"emroutes!A52","v":0},{"$f":"cost!A52","v":0},{"$f":"route!B52","v":0},{"$f":"visited!B52","v":0},{"$f":"emroutes!B52","v":0},{"$f":"cost!B52","v":0},{"$f":"route!C52","v":0},{"$f":"visited!C52","v":0},{"$f":"emroutes!C52","v":0},{"$f":"cost!C52","v":0},{"$f":"route!D52","v":0},{"$f":"visited!D52","v":0},{"$f":"emroutes!D52","v":0},{"$f":"cost!D52","v":0},{"$f":"route!E52","v":0},{"$f":"visited!E52","v":0},{"$f":"emroutes!E52","v":0},{"$f":"cost!E52","v":0}]
[53,{"$f":"route!A53","v":0},{"$f":"visited!A53","v":0},{"$f":"emroutes!A53","v":0},{"$f":"cost!A53","v":0},{"$f":"route!B53","v":0},{"$f":"visited!B53","v":0},{"$f":"emroutes!B53","v":0},{"$f":"cost!B53","v":0},{"$f":"route!C53","v":0},{"$f":"visited!C53","v":0},{"$f":"emroutes!C53","v":0},{"$f":"cost!C53","v":0},{"$f":"route!D53","v":0},{"$f":"visited!D53","v":0},{"$f":"emroutes!D53","v":0},{"$f":"cost!D53","v":0},{"$f":"route!E53","v":0},{"$f":"visited!E53","v":0},{"$f":"emroutes!E53","v":0},{"$f":"cost!E53","v":0}]
[54,{"$f":"route!A54","v":0},{"$f":"visited!A54","v":0},{"$f":"emroutes!A54","v":0},{"$f":"cost!A54","v":0},{"$f":"route!B54","v":0},{"$f":"visited!B54","v":0},{"$f":"emroutes!B54","v":0},{"$f":"cost!B54","v":0},{"$f":"route!C54","v":0},{"$f":"visited!C54","v":0},{"$f":"emroutes!C54","v":0},{"$f":"cost!C54","v":0},{"$f":"route!D54","v":0},{"$f":"visited!D54","v":0},{"$f":"emroutes!D54","v":0},{"$f":"cost!D54","v":0},{"$f":"route!E54","v":0},{"$f":"visited!E54","v":0},{"$f":"emroutes!E54","v":0},{"$f":"cost!E54","v":0}]
[55,{"$f":"route!A55","v":0},{"$f":"visited!A55","v":0},{"$f":"emroutes!A55","v":0},{"$f":"cost!A55","v":0},{"$f":"route!B55","v":0},{"$f":"visited!B55","v":0},{"$f":"emroutes!B55","v":0},{"$f":"cost!B55","v":0},{"$f":"route!C55","v":0},{"$f":"visited!C55","v":0},{"$f":"emroutes!C55","v":0},{"$f":"cost!C55","v":0},{"$f":"route!D55","v":0},{"$f":"visited!D55","v":0},{"$f":"emroutes!D55","v":0},{"$f":"cost!D55","v":0},{"$f":"route!E55","v":0},{"$f":"visited!E55","v":0},{"$f":"emroutes!E55","v":0},{"$f":"cost!E55","v":0}]
[56,{"$f":"route!A56","v":0},{"$f":"visited!A56","v":0},{"$f":"emroutes!A56","v":0},{"$f":"cost!A56","v":0},{"$f":"route!B56","v":0},{"$f":"visited!B56","v":0},{"$f":"emroutes!B56","v":0},{"$f":"cost!B56","v":0},{"$f":"route!C56","v":0},{"$f":"visited!C56","v":0},{"$f":"emroutes!C56","v":0},{"$f":"cost!C56","v":0},{"$f":"route!D56","v":0},{"$f":"visited!D56","v":0},{"$f":"emroutes!D56","v":0},{"$f":"cost!D56","v":0},{"$f":"route!E56","v":0},{"$f":"visited!E56","v":0},{"$f":"emroutes!E56","v":0},{"$f":"cost!E56","v":0}]
[57,{"$f":"route!A57","v":0},{"$f":"visited!A57","v":0},{"$f":"emroutes!A57","v":0},{"$f":"cost!A57","v":0},{"$f":"route!B57","v":0},{"$f":"visited!B57","v":0},{"$f":"emroutes!B57","v":0},{"$f":"cost!B57","v":0},{"$f":"route!C57","v":0},{"$f":"visited!C57","v":0},{"$f":"emroutes!C57","v":0},{"$f":"cost!C57","v":0},{"$f":"route!D57","v":0},{"$f":"visited!D57","v":0},{"$f":"emroutes!D57","v":0},{"$f":"cost!D57","v":0},{"$f":"route!E57","v":0},{"$f":"visited!E57","v":0},{"$f":"emroutes!E57","v":0},{"$f":"cost!E57","v":0}]
[58,{"$f":"route!A58","v":0},{"$f":"visited!A58","v":0},{"$f":"emroutes!A58","v":0},{"$f":"cost!A58","v":0},{"$f":"route!B58","v":0},{"$f":"visited!B58","v":0},{"$f":"emroutes!B58","v":0},{"$f":"cost!B58","v":0},{"$f":"route!C58","v":0},{"$f":"visited!C58","v":0},{"$f":"emroutes!C58","v":0},{"$f":"cost!C58","v":0},{"$f":"route!D58","v":0},{"$f":"visited!D58","v":0},{"$f":"emroutes!D58","v":0},{"$f":"cost!D58","v":0},{"$f":"route!E58","v":0},{"$f":"visited!E58","v":0},{"$f":"emroutes!E58","v":0},{"$f":"cost!E58","v":0}]
[59,{"$f":"route!A59","v":0},{"$f":"visited!A59","v":0},{"$f":"emroutes!A59","v":0},{"$f":"cost!A59","v":0},{"$f":"route!B59","v":0},{"$f":"visited!B59","v":0},{"$f":"emroutes!B59","v":0},{"$f":"cost!B59","v":0},{"$f":"route!C59","v":0},{"$f":"visited!C59","v":0},{"$f":"emroutes!C59","v":0},{"$f":"cost!C59","v":0},{"$f":"route!D59","v":0},{"$f":"visited!D59","v":0},{"$f":"emroutes!D59","v":0},{"$f":"cost!D59","v":0},{"$f":"route!E59","v":0},{"$f":"visited!E59","v":0},{"$f":"emroutes!E59","v":0},{"$f":"cost!E59","v":0}]

{"sheet":"home","index":1,"n_rows":33,"n_cols":6,"rows_kept":33,"cut":false,"hidden":false,"merged":[]}
["Details per Route"]
["Route",1,2,3,4]
["Cost: Dist",4.9876608848571777,6.3054289817810059,8.4805870056152344,3.2061400413513184]
["Cost: Travel",44.222244262695313,46.467212677001953,47.536323547363281,15.613814353942871]
["Cost: Wait",4.8100955609697849E-6,1.4412441942113219E-6,1.3589860827778466E-6,5.5789951147744432E-6]
["Cost: Route [$]",{"$f":"SUM(B3:B5)","v":49.209909957648051},52.772643100027153,56.016911911964598,18.819959974289304,0]
["Time: Leave",150,150,150,150]
["Time: Return",297.407470703125,304.89071655273438,308.45440673828125,202.04606628417969]
["Time: Route [min]",{"$f":"+B8-B7","v":147.407470703125},154.89071655273438,158.45440673828125,{"$f":"+E8-E7","v":52.046066284179688},0]
["Em: Route [Kg CO2]",{"$f":"SUM(emroutes!A:A)","v":9.9753220296626814},{"$f":"SUM(emroutes!B:B)","v":12.610857057522155},{"$f":"SUM(emroutes!C:C)","v":16.961174819680796},{"$f":"SUM(emroutes!D:D)","v":6.4122799185248152},{"$f":"SUM(emroutes!E:E)","v":0}]
["Load Route [Totes]",85,89,87,20]
[]
[]
[]
[]
[]
[]
[]
[]
["Final Results"]
["Total: Cost",176.8194215297699]
["Total: EM",45.959633825390441]
[]
[]
[]
[]
[]
[]
[]
["Parameters"]
["Epsilon",0.01]
["CO2 Tax",15]
["Scenario (from 1 to 5)",4]

{"sheet":"dist","index":2,"n_rows":60,"n_cols":60,"rows_kept":60,"cut":false,"hidden":false,"merged":[]}
[99,1.46840108534,2.24209557535,3.2136741365799999,12.1695790106,12.412190193300001,12.580315429400001,10.403350598699999,10.9870247521,10.987058166500001,11.811052029900001,10.369255602599999,10.303566978799999,10.2623572665,8.4713223090599996,7.5000037960399997,7.3706179903400004,5.7637177469900003,2.4077449873400001,2.62997834383,3.8803009302399998,4.3203556178999998,4.52697819601,7.0722484658400004,6.9812978674400004,7.1721589482799999,3.5689683806099999,6.2391641352200002,6.4301147834899997,6.3151615955400002,6.1036303332699999,6.1627699540299998,5.0551077641099997,3.03733530965,2.5649046551199999,1.42261906675,2.7718757357100001,3.5256809443399999,4.5174602941700002,3.8214539902100002,2.8833428344200001,2.9411622981900001,3.19740128735,3.1567124103299999,3.33815426972,3.3074599505800002,3.13779405973,3.8609778618999999,5.6226363754699999,5.5245272067300002,5.4502807424400004,5.2296453965499996,5.64324923631,5.7791610221200003,7.7493400537800001,7.4414801315599997,6.4839221849899999,1.64841654401,99,"1/D"]
[1.46840108534,99,0.79606600913100001,4.4700114199999996,11.9370979746,12.1797091574,12.347834393499999,10.449420617299999,10.8047595325,10.8047261181,11.857122048500001,10.1367745666,10.0710859428,10.029876230499999,8.2388412730899994,7.2675227600700003,7.1381369543700002,5.53123671102,3.6640822707599998,3.8863156272600001,6.4865592871300004,6.9266139748000004,7.1332365528999997,6.8397674298600002,6.7488168314700001,6.9396779122999996,6.3461320460000001,6.00668309925,6.1976337475200003,6.08268055957,5.9822260542999999,5.9899813490799998,4.8823844209200002,5.4310828534000004,3.8212419385500001,0.66507477462200004,1.70488589642,2.7830496889399998,3.07267348317,2.37666717921,1.51484892889,1.49575411831,1.7519931074799999,1.7113042304599999,1.8927460898399999,2.3431716271399998,2.45366888066,3.2988477108700001,5.1708356050299997,4.8404797417300003,4.7662332774499996,4.5455979315599997,4.9592017713100001,5.0951135571300004,7.0652925887800002,7.5867445670500002,6.4561190631900001,2.8171397260800002,1.46840108534,2]
[2.24209557535,0.79606600913100001,99,6.3792520461300004,11.5408445141,11.783455696900001,11.951580932900001,9.5279997746700005,10.1116739281,10.111707342400001,10.935701205899999,9.6719642934000003,9.4298513282900007,9.3893424399000001,7.7744850319900003,6.79234000728,6.9215978701800003,5.3890220980199999,4.2526065362500001,5.0005245036900003,6.3443446741400003,6.7843993618100003,6.9910219399100004,6.69755281687,6.60660221848,6.7974632993100004,6.203917433,5.8644684862499998,6.0554191345200001,5.9404659465699998,5.26312723691,5.2953629321699998,4.1877660040200002,5.2888682404100003,4.4097662040300003,1.1001755169,1.7949029118399999,3.0041771764999998,2.6910656608700001,1.9950593569099999,1.1332411065900001,1.1141462960099999,1.27050684942,1.0309774655599999,1.2124193249399999,1.6628448622500001,1.75905046375,2.6041515798799999,4.4762171881199997,4.1457836107499997,4.0715371464699999,3.85090180057,4.2645056403300003,4.4004174261399998,6.3706741718700002,6.6641379151700004,5.64341908863,3.2645337955399998,2.24209557535,3]
[3.2149168859700001,6.4085308036899997,6.2428794658799998,99,9.8755082660400006,10.1181194488,10.2862446849,7.9455129185200004,8.5287315873799994,8.5287650017400001,9.3533123797699993,8.0904980261299997,8.0248094023400007,7.9843005139400001,6.1932473859500003,6.1021258325699996,6.2313836954699999,7.8728151134899997,3.7335026288500002,1.4057770145899999,1.9301611355599999,2.24842600739,2.6520249570700001,3.1061324181700001,3.0175800741600001,3.1407111086500001,3.0883842509699999,7.8882796324399997,7.6268372831500004,7.2868400902800001,8.1245496071099996,8.7125255179799996,7.9933765145900004,8.2876247203400002,3.89066229663,6.3540495076800001,7.4333383889300002,8.1837056973899998,8.1362530126999992,7.4402467087500002,6.7710552127100003,6.7144784962399999,6.5502032415500002,6.4074947408999998,6.5889366002900003,6.4964344372399996,6.3154283371400002,7.0386121392999996,8.8002706528699992,8.7021614841300003,8.6279150198500005,8.4072796739599998,8.8208835137099992,8.9567952995300004,10.9269743312,9.2226555029899995,7.9934485203900003,6.8747050536599996,3.2149168859700001,4]
[9.8401059501900008,11.8599930071,11.751423193300001,9.7794396001599999,99,0.242611182733,0.50384017152799998,5.8215001937900004,6.1432574523700003,6.1432240380099996,7.3940745034699997,6.1578543365099998,5.8603826440000004,5.8198737556099998,4.86335396527,5.2677112410699998,5.3969691039700001,6.5675067814399997,7.6960576733000003,8.4574403950299999,8.5168761074900008,9.0709688308800001,8.6210915910299999,7.23335152766,7.1424009292599999,7.3332620101000003,6.9571979506700004,6.6929355875900001,6.4314932382999999,6.3686831603799998,7.2901350156099998,7.8781109264799998,7.1589619230899997,7.4532101288300003,7.9107998309600003,11.805511711099999,12.8851823189,13.635167900800001,13.5880969427,12.892090638699999,12.222899142699999,12.166322426200001,12.0019831792,11.915926604399999,12.0706980636,11.948214374899999,9.7428391236999996,8.9244557365000006,8.4139907584400007,8.9147765139900006,8.9936258306399992,8.9246295428500009,9.3879431529499993,9.5239250844899992,11.494652310299999,7.9706628116399996,7.1590339288899996,9.4396694551899998,9.8401059501900008,5]
[10.082717132899999,12.102604189799999,11.994034376,10.022050782899999,0.242611182733,99,0.59873924011699997,6.0641113765299997,6.3858686350999996,6.3858352207399998,7.6366856861999999,6.40046551924,6.1029938267299997,6.0624849383399999,5.1059651480000001,5.5103224237999999,5.6395802867100002,6.8101179641699998,7.9386688560299996,8.70005157776,8.7594872902199992,9.3135800136100002,8.86370277376,7.4759627103900002,7.3850121120000001,7.5758731928299996,7.1998091333999996,6.9355467703300002,6.67410442103,6.61129434311,7.5327461983399999,8.1207221092099999,7.4015731058199998,7.6958213115699996,8.1534110136900004,12.0481228938,13.127793501599999,13.8777790835,13.830708125399999,13.1347018215,12.4655103254,12.4089336089,12.244594362000001,12.1585377871,12.313309246299999,12.1908255577,9.9854503064299998,9.1670669192399998,8.6566019411700008,9.1573876967200007,9.2362370133800002,9.1672407255799992,9.6305543356900003,9.7665362672300002,11.737263493,8.2132739943799997,7.4016451116199997,9.6822806379199999,10.082717132899999,6]
[10.250842369000001,12.270729425900001,12.1621596121,10.190176019000001,0.50384017152799998,0.59873924011699997,99,6.2322366126200004,6.5539938711900003,6.5539604568299996,7.8048109222899997,6.5685907553299998,6.2711190628200004,6.2306101744299998,5.27409038409,5.6784476598899998,5.8077055227900001,6.9782432002599997,8.1067940921199995,8.8681768138500008,8.9276125263099999,9.4817052496999992,9.0318280098500008,7.64408794648,7.5531373480899999,7.7439984289200003,7.3679343694900004,7.1036720064200001,6.8422296571199999,6.7794195791999998,7.7008714344299998,8.2888473453000007,7.5696983419099997,7.8639465476600003,8.3215362497799994,12.2162481299,13.295918737699999,14.0459043196,13.998833361499999,13.3028270575,12.6336355615,12.577058845,12.412719598100001,12.3266630232,12.481434482399999,12.3589507937,10.1535755425,9.3351921553300006,8.8247271772599998,9.3255129328099997,9.4043622494699992,9.33536596167,9.7986795717799993,9.9346615033100001,11.9053887291,8.3813992304700005,7.5697703477099996,9.8504058740100007,10.250842369000001,7]
[8.4152149497999993,10.435102006699999,9.7722643139900001,8.3545485997700002,3.6734012949700001,3.9160124777099998,4.0841377137999997,99,1.4000773081,1.40011072246,2.2246581004900001,1.2649183851700001,1.7592376185900001,1.9007920713399999,3.1518949064599999,3.2938613009900002,3.42311916389,4.9354070022599998,6.0636927358200001,6.76855326027,6.7094647763699999,7.2635574997500001,6.8136802599099999,5.42594019654,5.33498959814,5.5258506789800004,5.1497866195400004,4.8855242564700001,4.6240819071799999,4.4785755587000002,5.3152066103399997,5.9031825212199998,5.1851119830099996,5.4793601887500003,6.2782873712200002,10.380620710700001,11.0982100657,12.156489819999999,11.8011246895,11.105118385500001,10.435926889499999,10.379350173000001,10.176408972899999,9.9367677251300002,10.118209584500001,9.9872087970500001,7.7636802444399997,6.9452968572399998,6.4350606536299999,6.9357117771799999,7.0145610938300003,6.9456349517599998,7.4089485618599999,7.5448603476800002,8.3796697451500002,4.8668122565000003,5.1841055236300004,7.7482033530300001,8.4152149497999993,8]
[8.7369722083799992,10.756859265299999,10.3554829854,8.6763058583500001,3.99515855355,4.2377697362799998,4.4058949723699996,1.4000773081,99,3.3414356367799998E-5,1.7492991952300001,0.82845807019499995,1.3227773036199999,1.46433175637,3.71087988299,3.87707996985,4.0063378327499999,5.4643730396299999,6.5929239314899997,7.3517719291299999,7.2926834452299998,7.8467761686199999,7.3968989287699998,6.0091588653999999,5.9182082670099998,6.1090693478400002,5.7330052884100002,5.4687429253399999,5.2073005760399997,5.0617942275600001,5.8984252791999996,6.4864011900799996,5.7683306518700004,6.0625788576200002,6.8076660891499996,10.702377969300001,11.681428737099999,12.532034159,12.384343360900001,11.688337057,11.0191455609,10.9625688444,10.7596276443,10.5199863966,10.7014282559,10.5704274685,8.3468989133000004,7.5285155261099996,7.0182793224899997,7.5189304460399997,7.5977797627000001,7.5288536206199996,7.9921672307299998,8.1280790165399992,9.0248811571799994,4.80877027955,5.7673241924900003,8.3314220218999999,8.7369722083799992,9]
[8.7369387940200003,10.7568258509,10.355516399800001,8.6762724439899994,3.9951251391899998,4.2377363219299999,4.4058615580099998,1.40011072246,3.3414356367799998E-5,99,1.7492657808700001,0.82849148455099997,1.3228107179799999,1.4643651707300001,3.7109132973499999,3.8771133842099998,4.0063712471099997,5.4643396252700001,6.5928905171299998,7.3518053434899997,7.2927168595899996,7.8468095829699998,7.3969323431299996,6.0091922797599997,5.9182416813599996,6.1091027622,5.73303870276,5.4687763396899998,5.2073339903999996,5.0618276419099999,5.8984586935600003,6.4864346044400003,5.7683640662300002,6.06261227197,6.8076326747899998,10.7023445549,11.6814621515,12.532000744599999,12.3843767753,11.688370471300001,11.019178975299999,10.9626022588,10.759661058700001,10.520019810899999,10.701461670300001,10.570460882800001,8.3469323276599994,7.5285489404600003,7.0183127368499996,7.5189638604000004,7.5978131770499999,7.5288870349800003,7.9922006450799996,8.1281124308999999,9.0249145715400001,4.8088036938999998,5.7673576068500001,8.3314554362499997,8.7369387940200003,10]
[9.9877892594799995,10.989220491899999,10.2952234479,9.9271229094500004,7.42327920385,7.6658903865800001,7.83401562267,2.2246581004900001,1.7492991952300001,1.7492657808700001,99,1.6530388625900001,2.1473580960100001,2.2889125487599999,4.4125380631600004,4.7016607622400004,4.8309186251399998,6.3432064635099996,7.4714921970699999,8.1763527215200007,8.1172642376200006,8.6713569610099999,8.2214797211599997,6.8337396577899998,6.7427890593999997,6.9336501402300001,6.5575860808000002,6.2933237177299999,6.0318813684299997,5.88637501995,5.5739267450999996,5.5215774762800001,6.3898855602199998,6.8871596500100001,7.68608683247,11.035621905399999,11.621169199700001,12.6794489539,12.324083823400001,11.6280775195,10.9588860234,10.902309306999999,10.6993681068,10.4597268591,10.641168718499999,10.510167931,8.3135284499500006,7.4679364232700003,6.9577002196500004,7.4583513432000004,7.5372006598499999,7.4682745177800003,7.9315881278899996,8.0674999137000007,7.9958955225599997,3.69813759036,5.3584724052099997,8.9059529797400003,9.9877892594799995,11]
[9.0722144022099993,10.510583414299999,9.8165863703599996,9.0115480521800002,4.8236166237400004,5.0662278064799997,7.1974388567499998,1.2649183851700001,0.82845807019499995,0.82849148455099997,1.6530388625900001,99,0.49431923342599998,0.63587368617399997,2.8824218128000001,3.4388464085999999,3.5681042715000002,5.08039210987,6.2086778434300003,6.9135383678800002,6.8544498839800001,7.4085426073600003,6.9586653675200001,5.5709253041500002,5.4799747057500001,5.6708357865899996,5.2947717271499997,5.0305093640800003,4.7690670147900001,4.6235606663000004,4.6429275175700004,4.59057824876,5.3216654590300001,5.6243452963599996,6.4232724788200004,10.556984827899999,11.1425321221,12.2008118764,11.8454467459,11.149440441899999,10.4802489459,10.423672229399999,10.2207310292,9.9810897814999997,10.162531640899999,10.0315308534,7.8348913723800004,6.9892993456900001,6.4790631420800002,6.9797142656300002,7.0585635822799997,6.9896374402100001,7.4529510503100003,7.5888628361299997,7.0648962950299996,3.2195005127899998,4.4274731776899996,7.8931884606400002,9.0722144022099993,12]
[9.1015867984399996,10.212490346399999,9.5184933024599996,9.0409204484100005,6.8160748341500002,7.0586860168800003,7.2268112529700002,1.7592376185900001,1.3227773036199999,1.3228107179799999,2.1473580960100001,0.49431923342599998,99,0.338401993663,2.64160538418,3.2255161392799998,3.3547740021900001,4.9603406257699998,6.0886263593300001,6.79348688378,6.7343983998799999,7.28849112327,6.8386138834199999,5.45087382005,5.3599232216599999,5.5507843024900003,5.1747202430600003,4.9104578799900001,4.6490155306899998,4.4106995379100002,4.3454558250600002,4.2931065562399997,5.0813604164799999,5.3923857904899997,6.2244969340100003,10.258891759899999,10.8444390542,11.9027188085,11.5473536779,10.851347373999999,10.182155878,10.125579161499999,9.9226379613399995,9.6829967135900006,9.8644385729700002,9.7334377855100005,7.5370810134999999,6.6918276531799998,6.18159144957,6.6822425731199999,6.7610918897700003,6.6921657476999998,7.1554793578,7.2913911436200003,6.7674246025200002,2.92202882028,4.1300014851800002,7.6851949903200003,9.1015867984399996,13]
[9.1524202607399996,10.171981457999999,9.4779844140599998,9.0917539107199996,6.9003491503800003,7.1429603331199996,7.3111990441200003,1.9007920713399999,1.46433175637,1.4643651707300001,2.2889125487599999,0.63587368617399997,0.338401993663,99,2.6010964957899998,3.18500725089,3.3142651137899999,4.91983173738,6.0481174709300003,6.7529779953900002,6.6938895114900001,7.2479822348700003,6.7981049950300001,5.4103649316600002,5.3194143332600001,5.5102754140999997,5.1342113546599997,4.8699489915900003,4.6085066423000001,4.3701906495199996,4.3049469366700004,4.2525976678499999,5.0408515280900001,5.3518769020999999,6.1839880456099996,10.218382871599999,10.803930165800001,11.8622099201,11.506844789600001,10.8108384856,10.1416469896,10.085070273099999,9.8821290729500006,9.6424878251999999,9.8239296845799995,9.6929288971199998,7.4965721251100002,6.6513187647900001,6.1410825611700002,6.6417336847200001,6.7205830013799996,6.6516568593000001,7.1149704694100002,7.2508822552299996,6.7269157141299996,2.8815199318800002,4.0894925967800004,7.6446861019299996,9.1524202607399996,14]
[7.17496376204,8.7133744758299994,8.0193774318800006,7.11429741201,4.8894517977499996,5.1320629804799998,5.3001882165699996,2.1546989503999998,2.7379176192600001,2.7379510336199999,3.56249841166,2.29968405801,2.3290564542299999,2.4706109069800002,99,1.5366247554800001,1.66588261838,3.1831414696899998,4.3114272032500001,5.0162877277,4.9025796552400003,5.51129196719,5.0067951387800003,3.6190550754099999,3.5281044770099999,3.7189655578399998,3.3429014984099998,3.07863913534,2.8171967860499998,2.7213390131900002,3.5590485300200001,4.1509169886499997,3.43284645044,3.7221236432499998,4.5260218386500002,8.7597758893699993,9.3453231835999997,10.403602937900001,10.0482378074,9.3522315034099996,8.6830400073699998,8.6264632909000003,8.4235220907600006,8.1838808430099999,8.3653227023899994,8.2343219149299998,6.0114147118699996,5.1930313246799997,4.6827951210599998,5.1834462446099998,5.2622955612600002,5.1933694191899997,5.6566830292999999,5.7925948151100002,7.7632278984300003,4.6609063587400001,3.4279474432999999,5.99593782046,7.17496376204,15]
[7.1347249697299997,7.7077091064800003,7.0137120625199998,4.89386592376,5.2778315236399997,5.5204427063699999,5.6885679424599997,3.2654422687200002,3.8486609375800001,3.8486943519399999,4.67324172997,3.4104273763299999,3.2075178720799999,3.1670089836900002,1.5131767361499999,99,0.12925786290300001,1.8023794859,2.9306652194599998,3.57197473044,4.1429794109899998,4.6970721343699999,4.2471948945299998,2.8594548311499999,2.7685042327599998,2.9593653135900002,2.5833012541599998,2.3190388910899999,2.0575965418000002,1.1847142577100001,2.5535474488299998,3.1415233597099999,2.3007091927399999,2.21718909275,3.0253342007100001,7.7541105200100002,8.3396578142499997,9.3979375685199997,9.0425724380200005,8.3465661340599997,7.6773746380199999,7.6207979215500004,7.4178567214099997,7.1782154736599999,7.3596573330400004,7.2286565455699998,5.0057493425199997,4.1873659553199998,3.6771297517099999,4.1777808752599999,4.2566301919100002,4.1877040498399998,4.6510176599399999,4.7869294457600002,6.7575625290800003,3.6515127297999999,2.4224463621200001,5.2963546957799998,7.1347249697299997,16]
[7.26398283263,7.8369669693799997,7.1429699254300001,4.7646080608499997,5.40708938654,5.6497005692800002,5.81782580537,3.3947001316200001,3.9779188004799999,3.9779522148400002,4.8024995928700003,3.5396852392299998,3.3367757349899998,3.29626684659,1.64243459905,0.12925786290300001,99,1.6731216229999999,2.80140735656,3.4427168675400002,4.2722372738900001,4.8263299972700002,4.3764527574300001,2.9887126940600002,2.8977620956600001,3.0886231765000001,2.6654647547299999,2.3260158079800002,2.1868544047,1.05545639481,2.6828053117400001,3.2707812226100001,2.17145132984,2.0879312298400001,2.8960763378099998,7.8833683829199996,8.4689156771499992,9.5271954314199991,9.17183030092,8.4758239969600009,7.8066325009300002,7.7500557844499998,7.54711458431,7.3074733365600002,7.4889151959399998,7.3579144084800001,5.13500720542,4.3166238182300001,3.8063876146100002,4.3070387381600002,4.3858880548099997,4.3169619127400001,4.7802755228500002,4.9161873086599996,6.8868203919799997,3.78449885229,2.5517042250199999,5.4256125586900001,7.26398283263,17]
[7.9770776100400003,8.5506830963400002,7.8566860523799997,4.2192849830299997,6.4637011741599997,6.7063123568999998,6.8744375929899997,4.6390719023600004,5.2222905712300003,5.2223239855800001,6.0468713636200002,4.7840570099699997,4.5965785719700003,4.5560696835799996,2.8868063697999999,1.7793885573799999,1.65013069448,99,1.5185102457599999,2.8973937897200002,3.8730679337199998,4.5247168072799999,4.0748395674299998,2.6137770607699999,2.5228264623699999,2.7136875432099998,2.1201416768999999,1.78069273015,1.9641560304900001,0.80904923562700004,3.39590008914,3.9876042596099999,2.5706206765099999,1.7034632461000001,1.7331048811600001,8.5970845098699993,9.1826318041100006,10.240911558400001,9.8855464278799996,9.1895401239200005,8.5203486278800007,8.4637719114099994,8.2608307112699997,8.0211894635200007,8.2026313229000003,8.0716305354400006,5.8481019828300003,5.0297185956300003,4.5194823920199996,5.0201335155700004,5.0989828322199999,5.0300566901500003,5.4933703002499996,5.6292820860699999,7.59991516939,4.4975936296999999,3.2647990024300002,3.38290212297,7.9770776100400003,18]
[2.4077449873400001,4.6997414537199997,4.2209163181099996,3.7446874069199998,7.6131137258899999,7.8557249086200001,8.0238501447099999,5.7884844540899998,6.3717031229499996,6.3717365373100003,7.1962839153399996,5.9334695617,5.7459911236999996,5.7054822353099999,4.0362189215199997,3.9208219253999999,4.0500797882999997,1.14941255173,99,2.4594574485199998,3.4494232271900001,4.1498347225899996,3.9332998074600001,2.62358491572,2.5326343173299999,2.7234953981599999,2.1299495318499999,1.7905005851,1.9814512333800001,1.86649804542,3.97613170769,4.5641076185699996,3.03030522233,0.94897789838900004,0.87573932598699999,4.6452601577100001,5.6349153915199999,6.4749163474199998,6.3378300152899998,5.6418237113299998,4.97263221529,4.8740011709199997,4.6250609770000004,4.3855315931399996,4.5669734525200001,4.5240259867299999,4.29346518937,5.1385663055000004,5.0959857509799997,5.5966368745299997,5.6754861911800001,5.6065600491099996,6.0698736592199998,6.2057854450300001,8.1768876658400007,5.07409698866,3.8450306209799998,1.8643918772200001,2.4077449873400001,19]
[2.62997834383,5.1344856233599998,4.9688342855499998,1.4057770145899999,8.5284503114400003,8.7710614941799996,8.9391867302700003,6.7038210396400002,7.28703970851,7.2870731228599999,8.1116205009000009,6.8488061472500004,6.6613277092500001,6.6208188208600003,4.9515555070800001,4.7802346392599997,4.90949250216,2.6569210613499998,2.4594574485199998,99,1.2503225864,1.69037727407,2.0939762237499999,1.8726473189699999,1.7840949749599999,1.90722600945,1.85489915177,2.29883551558,2.4897861638499998,2.3897460054000002,6.8026584137899997,7.3906343246699997,6.6714853212799996,3.0791057575299998,2.6166171163,5.0800043273500002,6.1592932086000003,6.9096605170599998,6.8622078323700002,6.1662015284100002,5.4970100323700004,5.4404333159,5.2761580612200003,5.1334495605699999,5.3148914199600004,5.2223892568999997,5.0413831568100003,5.7645669589699997,7.5262254725400002,7.4281163038000004,7.3538698395199997,7.1332344936299998,7.5468383333800002,7.6827501191999996,9.6529291508499995,7.9007643096800004,6.6715573270800004,2.7726250069199998,2.62997834383,20]
[6.1145956022899997,6.3848082097600001,6.4416940393699997,1.9301611355599999,8.6265475681399995,8.8691587508800005,9.0372839869699995,6.7797418838699999,7.3629605527399997,7.3629939670900004,8.1875413451300005,6.92472699148,6.7372485534799997,6.69673966509,5.0274763513099998,4.9071083422399999,5.0363662051500002,6.67779762317,3.4512873701400002,1.2503225864,99,1.31252257156,1.7161215212400001,1.6346023599599999,1.5460500159499999,1.66918105044,2.19473443001,2.5996946686300002,2.5110258410699999,6.0918225999500004,6.9295321167799999,7.5175080276599999,6.7983590242699998,7.0926072300099996,3.60844703792,6.3303269137499996,7.4096157949999997,8.1599831034699992,8.1125304187699996,7.4165241148199996,6.7473326187799998,6.6907559023100003,6.5264806476199997,6.4702347646499998,6.59519553195,6.4727118433099999,6.5764528770200004,7.01488954537,8.05311441966,8.5538356889300005,8.6326850055800008,8.5636887177900007,9.0270023278899991,9.1629842594300008,11.1354233249,8.0276380126699998,6.7984310300699997,7.4791286017400003,6.1145956022899997,21]
[6.5546502899499997,6.8248628974300001,6.8817487270299997,2.24842600739,9.1806402915300005,9.4232514742600006,9.5913767103499996,7.33383460726,7.9170532761199999,7.9170866904799997,8.7416340685100007,7.4788197148700002,7.2913412768699999,7.2508323884800001,5.58156907469,5.4612010656300001,5.5904589285300004,7.2318903465500002,8.3601760801099996,1.69037727407,1.31252257156,99,0.48189240497800001,2.0147096365400001,2.1939706062900002,2.5457682257199998,2.8221495966900001,3.2271098352999998,6.9349596574500003,6.6459153233399997,7.4836248401700001,8.0716007510400001,7.35245174765,7.6466999533999997,8.4548450613600004,6.7703816014199996,7.8496704826699997,8.6000377911299992,8.5525851064400005,7.8565788024799996,7.1873873064399998,7.1308105899700003,6.9665353352899997,6.9102894523199998,7.03525021961,6.9127665309699999,7.0165075646800004,7.45494423304,8.6072071430400001,9.1079284123100006,9.1867777289700001,9.1177814411699991,9.5570281860699993,9.6929399718799996,11.6895160483,8.5817307360499999,7.3525237534499999,7.9191832894000003,6.5546502899499997,22]
[6.7140482514300004,6.9842608588999999,7.0411466884999996,2.6520249570700001,8.7307630516800003,8.9733742344199996,9.1414994705100003,6.8839573674099999,7.4671760362799997,7.4672094506300004,8.2917568286699996,7.02894247502,6.8414640370199997,6.8009551486299999,5.1316918348499998,5.0113238257899999,5.1405816886900002,6.78201310671,7.9102988402600003,2.0939762237499999,1.7161215212400001,0.48189240497800001,99,1.5648323967,1.74409336644,2.0958909858700001,2.3722723568399999,2.7772325954600001,2.6885637678999998,6.1960380834900004,7.0337476003199999,7.6217235111999999,6.9025745078099998,7.1968227135499996,8.0049678215199993,6.9297795628900003,8.0090684441400004,8.7594357526,8.7119830679099994,8.0159767639500004,7.3467852679099996,7.2902085514400001,7.1259332967600004,7.0696874137899997,7.1946481810799998,7.0721644924399998,7.1759055261500002,7.6143421945099998,8.1573299032000008,8.6580511724699996,8.7369004891199999,8.6679042013299998,9.13121781143,9.2671997429699999,11.239638808500001,8.1318534962100006,6.9026465136099997,8.0785812508700001,6.7140482514300004,23]
[6.2444083315199999,6.5146209389900003,6.5718884951799996,3.1061324181700001,7.3430229883100004,7.5856341710499997,7.7537594071399996,5.49621730404,6.0794359729099998,6.0794693872599996,6.9040167652999997,5.6412024116500001,5.4537239736499998,5.4132150852600001,3.7439517714799999,3.62855477535,3.7578126382599999,2.3863532198900002,2.62358491572,1.8726473189699999,1.6346023599599999,2.0147096365400001,1.5648323967,99,0.179260969746,0.53105858917399995,0.91120985017699996,1.3161700888000001,1.22750126124,2.1104788966500001,5.0943894012599999,5.68236531213,5.3174009691000004,2.8085379160600001,2.8381795511200001,6.4601396429799998,7.5398102508199996,8.2897958326999994,8.2427248745899995,7.5467185706300004,6.8775270745899997,6.8209503581200002,6.6566751034399996,6.6004292204699997,6.7253899877599999,6.6029062991199998,6.7066473328300003,6.72447964816,6.2142434445400001,6.7148945680900001,6.7937438847499996,6.72481774267,7.1881313527800001,7.3240431385999996,9.2951453594100002,6.1923546822200004,4.9632883145399997,3.8076566471,6.2444083315199999,24]
[6.1558559875199999,6.4260685949900003,6.4833361511799996,3.0175800741600001,7.2520723899200004,7.4946835726499996,7.6628088087400004,5.4052667056499999,5.9884853745099997,5.9885187888700004,6.8130661668999997,5.5502518132600001,5.3627733752599998,5.32226448687,3.6530011730799998,3.53760417696,3.6668620398599998,2.2954026215000001,2.5326343173299999,1.7840949749599999,1.5460500159499999,2.1939706062900002,1.74409336644,0.179260969746,99,0.44010799078099999,0.82025925178299997,1.2252194904,1.1365506628499999,2.01952829825,5.0034388028599999,5.5914147137399999,5.2264503707100003,2.7175873176700001,2.74722895273,6.3715872989799998,7.4512579068100004,8.2012434886900003,8.1541725305800004,7.4581662266300004,6.7889747305899997,6.7323980141200002,6.5681227594299996,6.5118768764599997,6.6368376437599998,6.5143539551199998,6.6180949888300002,6.6335290497699999,6.12329284615,6.6239439697,6.7027932863500004,6.6338671442799999,7.0971807543900001,7.2330925402000004,9.2041947610099992,6.1014040838300003,4.8723377161499997,3.7191043031,6.1558559875199999,25]
[6.2199562321200004,6.4901688395999999,6.5474363957900001,3.1407111086500001,7.4429334707499999,7.68554465349,7.8536698895799999,5.5961277864800003,6.1793464553500002,6.1793798697,7.0039272477400001,5.7411128940899996,5.5536344560900002,5.5131255677000004,3.8438622539099998,3.7284652577899999,3.8577231206899998,2.48626370233,2.7234953981599999,1.90722600945,1.66918105044,2.5457682257199998,2.0958909858700001,0.53105858917399995,0.44010799078099999,99,1.01112033262,1.41608057123,1.3274117436799999,2.21038937909,5.1942998837000003,5.7822757945700003,5.4173114515399998,2.9084483985,2.93809003356,6.4356875435900003,7.5153581514200001,8.2653437332999999,8.21827277519,7.52226647123,6.8530749752000002,6.7964982587299998,6.6322230040400001,6.5759771210700002,6.7009378883600004,6.5784541997300003,6.6821952334399999,6.8243901306000003,6.3141539269800004,6.8148050505300004,6.8936543671899999,6.8247282251100003,7.2880418352199996,7.4239536210299999,9.3950558418500005,6.2922651646599999,5.0631987969800001,3.7832045477,6.2199562321200004,26]
[5.7587635924700002,6.0289761999399998,6.08624375613,3.0883842509699999,7.0668694113199999,7.3094805940500001,7.4776058301399999,5.2200637270500003,5.8032823959100002,5.80331581027,6.6278631883000001,5.3650488346599996,5.1775703966600002,5.1370615082700004,3.4677981944799998,3.3524011983599999,3.4816590612599998,1.8927178360200001,2.1299495318499999,1.85489915177,2.19473443001,2.8221495966900001,2.3722723568399999,0.91120985017699996,0.82025925178299997,1.01112033262,99,0.82253470492799996,0.951347684247,1.61684351278,4.8182358242600003,5.4062117351400003,5.0412473921099998,2.3149025322000001,2.34454416725,5.9744949039300002,7.05416551177,7.8041510936499998,7.7570801355399999,7.0610738315799999,6.3918823355400001,6.3353056190699997,6.17103036439,6.1147844814200001,6.2397452487100002,6.1172615600700002,6.2210025937799998,6.4483260711700003,5.9380898675499996,6.4387409911000004,6.5175903077499999,6.4486641656800003,6.9119777757899996,7.0478895615999999,9.0189917824099997,5.9162011052299999,4.6871347375500001,3.3220119080499999,5.7587635924700002,27]
[5.6262330666900002,5.8964456741599998,5.95371323035,3.6120274203,6.8026070482499996,7.0452182309799998,7.2133434670699996,4.95580136398,5.5390200328399999,5.5390534471999997,6.3636008252299998,5.1007864715900002,4.9133080335899999,4.8727991452000001,3.20353583141,3.0881388352900001,3.21739669819,1.55326888927,1.7905005851,2.2901362269800001,2.5996946686300002,3.2271098352999998,2.7772325954600001,1.3161700888000001,1.2252194904,1.41608057123,0.82253470492799996,99,0.26144234929499999,1.2773945660299999,4.55397346119,5.14194937207,4.7769850290400004,1.9754535854499999,2.0050952204999999,5.8419643781500001,6.9216349859899999,7.6716205678699998,7.6245496097599998,6.9285433057999999,6.2593518097600001,6.2027750932899997,6.0384998386099999,5.9822539556400001,6.1072147229300002,5.9847310342900002,6.0884720679999997,6.1840637081000001,5.6738275044800002,6.1744786280300001,6.2533279446799996,6.1844018026100001,6.6477154127200002,6.7836271985299996,8.7547294193400003,5.6519387421599996,4.4228723744799998,3.4765573623699999,5.6262330666900002,28]
[8.5911749228800005,9.4442072437500002,8.7502101997900006,3.8029780685699999,6.5411646989500003,6.7837758816899996,6.9519011177800003,4.6943590146799998,5.2775776835499997,5.2776110979000004,6.1021584759399996,4.83934412229,4.6518656842899997,4.6113567958999999,2.9420934821200002,2.0575965418000002,2.1868544047,1.74421953754,1.9814512333800001,2.4810868752599999,2.5110258410699999,3.13844100775,2.6885637678999998,1.22750126124,1.1365506628499999,1.3274117436799999,0.951347684247,0.26144234929499999,99,1.3838071783999999,4.2925311118999998,4.8805070227699998,4.5155426797400002,2.1664042337199998,2.1960458687700002,9.4906086572799992,10.076155951500001,11.1344357058,10.7790705753,10.0830642713,9.4138727752900007,9.3572960588199994,9.1543548586799997,8.9147136109300007,9.0961554703100003,8.9651546828399997,6.7410047459899998,5.9226213587999998,5.41238515518,5.9130362787299999,5.9918855953900003,5.9229594533099998,6.38627306342,6.5221848492400003,8.4932870700500001,5.3904963928600003,4.1614300251799996,3.6675080106400002,8.5911749228800005,29]
[5.7078229062599997,5.9780355137300001,6.0353030699300003,3.7091516660499999,6.4625457813500002,6.7051569640800004,6.8732822001700002,4.4501565264199998,5.0333751952899997,5.0334086096400004,5.8579559876799996,4.59514163403,4.39223212979,4.3517232414000002,2.6978909938600002,1.1847142577100001,1.05545639481,0.82893328600799998,1.8720904246800001,2.38726047274,3.36293461674,4.0145834902999997,3.56470625045,2.1036437437900002,2.0126931453900001,2.2035542262300001,1.6100083599199999,1.27055941317,1.3838071783999999,99,3.6450552121899999,4.2367593826599999,2.8881272190799998,2.0570434250199998,2.0866850600800002,5.9235542177299996,7.0032248255600003,7.7532104074400001,7.7061394493300002,7.0101331453700002,6.3409416493400004,6.28436493287,6.1200896781800003,6.0638437952100004,6.1888045624999997,6.0663208738699996,6.0972571058799998,5.2788737186799999,4.76863751507,5.26928863862,5.3481379552700004,5.2792118131999999,5.7425254233,5.8784372091200003,7.8490702924400004,4.7467487527500003,3.5139541254800002,3.5581472019499998,5.7078229062599997,30]
[5.6059814675800004,6.1510036510199999,5.4570066070600003,8.7807108672100007,7.3002552981799997,7.5428664809099999,7.7109917169999997,5.2878660432500002,5.4709944256399998,5.4710278399999996,5.4470464761499997,4.6425363554399999,4.3450646629299996,4.3045557745399998,3.5356005106800001,2.5567217531600002,2.68597961606,3.4357356181599998,3.98241289551,5.9429968585399999,6.3774519886899999,6.93154471207,6.4816674722299998,5.09392740886,5.0029768104599999,5.1938378912900003,4.8177738318600003,4.55351146879,4.2920691194999998,3.6469867738800001,99,0.59170415951999999,1.26769957257,3.0297067375400002,3.8378518454999999,6.1974050645499998,6.7829523587800002,7.8412321130600002,7.4858669825500002,6.7898606786000002,6.1206691825600004,6.06409246609,5.8611512659500002,5.6216218820800004,5.8030637414699999,5.6720629540000003,3.5041776209700002,2.6589242606500001,2.1486880570300002,2.6493391805800002,2.7281884972400001,2.6592623551600001,3.1225759652699998,3.2584877510800001,3.8214014918200001,1.6012803072599999,0.503478365461,4.2877034108799998,5.6059814675800004,31]
[5.6651658829700002,6.2101880664099998,5.5161910224500001,8.8398952826099997,7.8882312090499997,8.1308423917900008,8.2989676278799998,5.85510547179,5.4186451568200003,5.4186785711800001,5.5215774762800001,4.5901870866300003,4.29271539411,4.2522065057200003,4.1235764215600001,3.1446976640300002,3.27395552694,4.0237115290399998,4.5703888063899996,6.5309727694199999,6.9654278995599999,7.51952062295,7.0696433830999998,5.68190331973,5.5909527213399999,5.7818138021700003,5.4057497427400003,5.14148737967,4.8800450303699998,4.2349626847500002,0.59170415951999999,99,1.64937844591,3.6176826484100002,4.4295560159700003,6.2565894799399997,6.8421367741800001,7.9004165284500001,7.54505139795,6.8490450939900001,6.1798535979500002,6.1232768814799998,5.9203356813400001,5.6808062974800002,5.8622481568599998,5.7312473693900001,3.56336203636,2.7181086760399999,2.2078724724300001,2.70852359598,2.78737291263,2.7184467705599999,3.1817603806600001,3.31767216648,3.5267153387399999,1.7887823993400001,0.87583659727800001,4.8756793217599999,5.6651658829700002,32]
[4.6087827190899997,4.8773001173899999,4.1833030734400003,7.7826887355099998,7.1765387248400003,7.4191499075699996,7.5872751436600003,5.1641494699099999,5.7473681387799997,5.7474015531299996,6.5719489311699997,5.3078918149699996,5.0670783364299998,5.0265694480400001,3.4118839373399998,2.7797333210100001,2.17145132984,2.6066605085800001,3.03030522233,6.1660084263900004,6.6004635565300003,7.1545562799200004,6.7046790400700003,5.3169389767000004,5.2259883783100003,5.4168494591399998,5.0407853997099998,4.7765230366400004,4.5150806873400002,3.8699983417300001,1.26769957257,1.64937844591,99,2.0813273239400001,2.8894724318999998,4.9237015309299998,5.5092488251600003,6.5675285794300002,6.2121634489300002,5.5161571449700002,4.8469656489300004,4.79038893246,4.5874477323200002,4.3479183484600004,4.5293602078399999,4.3983594203700003,2.4286378261800001,1.6351109695899999,2.1107214505999998,2.6113725741499998,2.6902218908000002,2.6212957487300002,3.0846093588399999,3.2205211446500002,5.1908524204999997,2.8658730127499998,1.6368066450700001,3.17783349714,4.6087827190899997,33]
[3.03733530965,5.3293317760300001,4.8505066404299999,4.3686853454300003,7.4633304118700003,7.7059415946099996,7.8740668306900004,5.4509411569499999,6.0341598258099998,6.0341932401699996,6.8587406181999997,5.5959262645600001,5.3917739882199998,5.35126509983,3.6986756243799999,3.3962442773200001,2.0879312298400001,1.33436555207,0.94897789838900004,3.0672995832300001,4.0529157406499996,4.7194776625700001,4.26960042273,2.8085379160600001,2.7175873176700001,2.9084483985,2.3149025322000001,1.9754535854499999,2.1664042337199998,2.0514510457599999,3.0234255497200002,3.6114014605899998,2.0813273239400001,99,0.80814510796700001,5.2748504800199996,6.2645057138300002,7.1045066697300001,6.9674203376000001,6.2714140336400002,5.6022225376100003,5.5035914932400001,5.2546512993099999,5.01512191545,5.1965637748300004,5.1536163090500002,4.9230555116800003,4.6572440562099997,4.1470078525899998,4.6476589761399998,4.7265082927900002,4.6575821507199997,5.1208957608299999,5.2568075466400002,7.2274406299600003,4.1251190902700001,2.892324463,2.49398219953,3.03733530965,34]
[2.5649046551199999,4.8569011215,4.3780759858999998,3.9018470747,7.82770836129,8.0703195440200002,8.2384447801099991,6.0030790894899999,6.5862977583499998,6.5863311727099996,7.4108785507399997,6.1480641971000001,5.9605857590999998,5.92007687071,4.2508135569199998,4.1354165608000004,4.2646744236999998,1.3640071871199999,0.87573932598699999,2.6166171163,3.6065828949699998,4.3069943903699999,4.0904594752400003,2.8381795511200001,2.74722895273,2.93809003356,2.34454416725,2.0050952204999999,2.1960458687700002,2.0810926808199999,3.8352989172699998,4.4232748281500003,2.8894724318999998,0.80814510796700001,99,4.8024198254900003,5.7920750593000001,6.63207601521,6.49498968307,5.7989833791200001,5.1297918830800002,5.03116083871,4.7822206447799998,4.5426912609199999,4.7241331203000003,4.6811856545200001,4.4506248571500002,5.2957259732799997,4.9551529605600004,5.4558040841100004,5.5346534007599999,5.4657272586900003,5.9290408687899996,6.0649526546099999,8.0355782095299997,4.9332641982399998,3.7041978305600001,2.0215515449999999,2.5649046551199999,35]
[1.42261906675,0.66507477462200004,1.1070106576500001,4.4242294014099999,11.9447543065,12.187365489199999,12.355490725299999,10.490229639400001,10.8124158643,10.812382449899999,11.8979310707,10.1444308985,10.0787422747,10.037532562399999,8.2464976049299992,7.2751790919100001,7.14579328622,5.5388930428699998,3.6183002521700001,3.8405336086699999,6.4941407232700001,6.9342451612999998,7.1408928847500004,6.84742376171,6.7564731633199999,6.9473342441500003,6.3537883778499999,6.0143394310999998,6.2052900793700001,6.0903368914099998,6.0230350764700002,6.0307903712500002,4.9231934430999997,5.4386642895400001,3.7754599199499999,99,1.3492566689700001,2.28077559307,3.0948412274199999,2.3988349234699999,1.46072376768,1.5241356134899999,1.78037460266,1.73968572563,1.92112758502,2.3696890203500001,2.4944779028299999,3.33965673304,5.2116446272000001,4.8812887639099998,4.80704229962,4.5864069537300001,5.0000107934800004,5.1359225792999998,7.1061016109499997,7.6275535892199997,6.4969280853600004,2.77135770749,1.42261906675,36]
[2.7718757357100001,1.80554891332,1.7949029062499999,7.5275397097800001,12.9435545748,13.1861657575,13.354290993599999,11.053846589300001,11.6375207426,11.637554157,12.4615480205,11.1432311668,10.955698142899999,10.9151892545,9.2452978732400002,8.2739793602200002,8.1445935545299992,6.53769331117,5.5026165878600004,6.2423097513799997,7.4926323377799999,7.9326870254499999,8.1396931530599996,7.8462240300200001,7.75527343163,7.9461345124599996,7.3525886461500001,7.0131396993999999,7.2040903476700002,7.0891371597199999,6.5866520281399996,6.5944073229200004,5.48681039477,6.4371559040499999,5.6597762556499998,1.3492566689700001,99,1.4108767075599999,1.92171054427,1.22570424031,0.66228317622400001,0.80627468449700002,1.1092746469899999,1.34880402852,1.5943118594600001,1.5712484288999999,3.0581725685899999,3.9032736847099998,5.7752615788700004,5.44490571558,5.3706592513000002,5.1500239054000003,5.5636277451599998,5.6995395309700001,7.66971856263,8.1911705390300007,7.0605450370299998,4.5146215612300002,2.7718757357100001,37]
[3.3939490993699999,4.7650589107199997,3.0041771709099998,8.2413138551900005,13.656970316000001,13.8995814988,14.0677067349,12.1121263454,12.524631873900001,12.5245984595,13.5198277766,11.856646908,11.7909582842,11.7497485719,9.9587136144899997,8.9873951014699998,8.8580092957800005,7.2511090524200004,6.5212237395099999,6.95596790915,8.2063567328300007,8.6464611708600003,8.8531088943099991,8.5596397712699996,8.4686891728799996,8.65955025371,8.0660043874100005,7.7265554406600003,7.9175060889299997,7.8025529009700003,7.6449317824199996,7.6526870772000004,6.54509014904,7.1508802990999998,6.6783834072900001,2.1738988195400002,1.4108767075599999,99,1.71113929342,1.5109915091499999,1.87155744089,2.0155489491599998,2.3030144995300001,2.53135910626,2.6563198735600002,2.6295281831700001,4.1164523228599998,4.9615534389900002,6.8335413331500003,6.50318546985,6.4289390055700002,6.2083036596800003,6.6219074994299998,6.7578192852500001,8.7279983169000008,9.2494502951699999,8.1188247913100007,5.5729013155100002,3.3939490993699999,38]
[5.0498600820000004,4.4096937802199996,2.6904442843099998,8.23045433355,13.6464691986,13.889080381299999,14.057205617399999,11.756761213000001,12.340435366399999,12.3404687808,13.1644626442,11.8461457905,11.658612766599999,11.618103878299999,9.9482124970099992,8.9768939839899993,8.8475081783,7.2406079349399999,6.2055312116300003,6.9452243751499996,8.1955469615599998,8.6356016492199998,8.8426077768300004,8.5491386537899992,8.4581880554000008,8.6490491362299995,8.0555032699200009,7.7160543231699998,7.9070049714500001,7.7920517834899998,7.2895666519100004,7.2973219466900003,6.1897250185399999,7.1400705278199998,6.3626908794199997,4.4560951937500004,1.92171054427,1.71113929342,99,0.69600630395600005,1.6341174597499999,1.7018160625600001,1.9476493690300001,2.17599397576,2.3009547430500001,2.2741630526700001,3.7610871923600002,4.6061883084800002,6.4781762026400003,6.1478203393499999,6.0735738750700001,5.8529385291700002,6.2665423689299997,6.40245415474,8.3726331863999999,8.8940851627999997,7.7634596607999997,5.2175361850000002,5.0498600820000004,39]
[4.3538537780400004,2.37666717921,1.9944379803500001,7.53444802959,12.950462894599999,13.1930740773,13.3611993134,11.0607549091,11.6444290625,11.644462476799999,12.468456340299999,11.150139486600001,10.9626064627,10.9220975743,9.2522061930599993,8.2808876800399993,8.1515018743399992,6.5446016309899999,5.5095249076800004,6.2492180711999996,7.4995406575999999,7.9395953452599999,8.1466014728699996,7.8531323498400001,7.76218175144,7.9530428322700004,7.35949696597,7.0200480192199999,7.2109986674900002,7.0960454795399999,6.5935603479599996,6.6013156427400004,5.4937187145799999,6.4440642238699999,5.6666845754599997,2.3988349234699999,1.22570424031,1.5109915091499999,0.69600630395600005,99,0.938111155792,1.0058097586000001,1.2516430650699999,1.4799876718,1.6049484391,1.5781567487099999,3.0650808883999998,3.9101820045300002,5.7821698986900003,5.45181403539,5.3775675711100002,5.1569322252200003,5.5705360649699998,5.7064478507900001,7.6766268824399999,8.1980788588499998,7.0674533568499998,4.5215298810500002,4.3538537780400004,40]
[2.8833428344200001,1.51484892889,1.13261973003,6.8652565335500002,12.1776057294,12.420216912100001,12.588342148200001,10.1647609899,10.7484351433,10.748468557700001,11.572462421099999,10.3087255086,10.0666125435,10.0261036551,8.4112462472199994,7.4291012224999999,7.4823103783100002,5.8754101349500001,4.8403334116399996,5.5800265751599998,6.83034916156,7.27040384923,7.4774099768399998,7.1839408538000002,7.0929902554000002,7.2838513362399997,6.6903054699300002,6.35085652318,6.5418071714500003,6.4268539835,5.8998884514399998,5.9321241466999997,4.8245272185500001,5.7748727278300001,4.9974930794199999,1.46072376768,0.66228317622400001,1.87155744089,1.6341174597499999,0.938111155792,99,0.143991508273,0.44699147076200002,0.68652085229600002,0.93202868323700006,0.90896525267600004,2.3955275493600001,3.2409905084899999,5.1129784026499996,4.7826225393600001,4.7083760750700003,4.4877407291800004,4.9013445689299999,5.0372563547500002,7.0074353864000001,7.3008991297000003,6.2801803031599999,3.8522839601499999,2.8833428344200001,41]
[2.9417836845299998,1.49575411831,1.1135249194500001,6.8086798170799998,12.121029012899999,12.3636401956,12.5317654317,10.108184273399999,10.6918584268,10.6918918412,11.5158857046,10.2521487922,10.010035826999999,9.9695269386599996,8.3546695307499999,7.3725245060300004,7.4257336618299998,5.8188334184799997,4.7837566951700001,5.5234498586900003,6.7737724450899996,7.2138271327599996,7.4208332603700002,7.1273641373299998,7.0364135389299998,7.2272746197700002,6.6337287534599998,6.2942798067099996,6.4852304549799999,6.3702772670299996,5.8433117349700003,5.8755474302300001,4.7679505020799997,5.7182960113599997,4.9409163629500004,1.5204073683399999,0.80627468449700002,2.0155489491599998,1.7018160625600001,1.0058097586000001,0.143991508273,99,0.39041475429099998,0.62994413582599995,0.81289223220700002,0.85238853620599997,2.3389508328900002,3.18441379202,5.0564016861800001,4.7260458228899997,4.6517993585999999,4.43116401271,4.8447678524600004,4.9806796382799998,6.9508586699299997,7.2443224132299999,6.2236035866900004,3.7957072436799999,2.9417836845299998,42]
[3.1980226736900002,1.7519931074799999,1.2711282261000001,6.6444045624000001,11.934425770700001,12.1770369534,12.3451621895,9.9215810312400006,10.505255184599999,10.505288599,11.3292824624,10.06554555,9.8234325848499999,9.7829236964599993,8.1680662885499995,7.1859212638400001,7.2614584071500001,5.65455816379,4.6194814404800004,5.3591746039999997,6.6094971903999999,7.0495518780699999,7.2565580056799996,6.9630888826400001,6.8721382842500001,7.0629993650799996,6.4694534987700001,6.1300045520199999,6.3209552002900002,6.2060020123399999,5.65670849347,5.6889441887299999,4.5813472605800003,5.5540207566699999,4.7766411082699998,1.78534561746,1.1092746469899999,2.3030144995300001,1.9476493690300001,1.2516430650699999,0.44699147076200002,0.39041475429099998,99,0.32720766280500002,0.50927090061000002,0.688113281518,2.1526317203200001,2.9978105505200001,4.8697984446799998,4.5394425813900003,4.4651961171099996,4.2444830571300001,4.6580868968900004,4.7939986827099998,6.7642554284400003,7.0577191717399996,6.0370003451900001,3.6314319889900002,3.1980226736900002,43]
[3.1573337966700001,1.7113042304599999,1.03159884223,6.5333039188299997,11.6948963875,11.937507570299999,12.105632806299999,9.6820516480700007,10.2657258015,10.265759215799999,11.089753079299999,9.8260161668000006,9.5839032016899992,9.5433943133000003,7.9285369053899997,6.9463918806700002,7.0756497435799997,5.5430739707200001,4.4066584089500003,5.1545763763899997,6.4983965468399996,6.9384512345099996,7.1450738126099997,6.8516046895700002,6.7606540911800002,6.9515151720099997,6.3579693057000002,6.01852035895,6.2094710072200003,6.09451781927,5.4171791096100002,5.44941480487,4.3418178767200004,5.4429201131099996,4.5638180767299996,1.74465674044,1.34880402852,2.53135910626,2.17599397576,1.4799876718,0.68652085229600002,0.62994413582599995,0.32720766280500002,99,0.26974151674800001,0.63186739855100005,1.9131023364499999,2.7582034525800001,4.6302690608199999,4.2999131975299996,4.2255890191700001,4.0049536732700002,4.4185575130299997,4.55446929884,6.5247260445700004,6.8181897878699997,5.7974709613300002,3.41858566824,3.1573337966700001,44]
[3.3387756560500002,1.8927460898399999,1.21304070162,6.7131194467200004,11.876338244299999,12.1189494271,12.2870746632,9.8634935048999992,10.4471676583,10.4472010726,11.271194936100001,10.0074580236,9.7653450585100003,9.7248361701199997,8.1099787622099999,7.1278337374999996,7.2570916003999999,5.7232730481200003,4.5881002683399998,5.3360182357700001,6.6782120747300002,7.1182667623900002,7.3252728899999999,7.0318037669700004,6.9408531685700003,7.1317142493999999,6.5381683831000004,6.1987194363500002,6.3896700846199996,6.2747168966700002,5.5986209689899997,5.6308566642500004,4.5232597361,5.6227356410000002,4.7452599361200001,1.92609859982,1.5943118594600001,2.6563198735600002,2.3009547430500001,1.6049484391,0.93202868323700006,0.81289223220700002,0.50927090061000002,0.26974151674800001,99,0.75682816584299994,2.0945441958400002,2.9397230260399998,4.8117109202000004,4.48135505691,4.4071085926300002,4.1863955326599998,4.5999993724100001,4.7359111582300004,6.70616790396,6.9996316472600002,5.9789128207199997,3.60002752763,3.3387756560500002,45]
[3.2596139396899999,2.3431716271399998,1.6634662389199999,6.4402626161000001,11.735834645300001,11.978445828,12.1465710641,9.7229899058200004,10.306664059199999,10.3066974736,11.130691337,9.8669544245500003,9.6248414594400007,9.5843325710399991,7.9694751631400003,6.9873301384199999,7.0573164608500001,5.4504162174999999,4.4153394941900004,5.1550326577099996,6.4053552441099999,6.8454099317799999,7.0524160593899996,6.7589469363500001,6.66799633795,6.8588574187900004,6.26531155248,5.9258626057299999,6.1168132540000002,6.0018600660499999,5.4581173673599999,5.4903530626199997,4.3827561344600001,5.3498788103799999,4.5724991619699997,2.3696890203500001,1.5712484288999999,2.6295281831700001,2.2741630526700001,1.5781567487099999,0.90896525267600004,0.85238853620599997,0.688113281518,0.63186739855100005,0.75682816584299994,99,1.95411830828,2.7992194244099999,4.6712073185699996,4.3408514552700002,4.2666049909900003,4.0459696450999996,4.4595734848499999,4.5954852706700002,6.5656643023200001,6.8591280456200003,5.8384092190799999,3.4272900427000001,3.2596139396899999,46]
[3.1030692714899999,2.4486622912099998,1.7546652472499999,6.3853859110100002,9.7816474620400005,10.0242586448,10.1923838809,7.7688027225800003,8.3524768759699999,8.3525102903300006,9.1765041537900007,7.9127672413100001,7.6706542761999996,7.6301453878099998,6.0152879799000001,5.0331429551899998,5.1624008180900001,5.3951559628999997,4.29353406177,5.0414520292000002,6.35047853902,6.79053322668,6.9971558047900002,6.7036866817499998,6.6127360833599997,6.8035971641900002,6.2100512978799998,5.8706023511299996,6.0615529993999999,5.9465998114499996,3.47699145138,3.5361758667699998,2.4286378261800001,5.29500210529,4.4506937295500002,2.4950637047400002,3.0806109989700001,4.1388907532500001,3.78352562274,3.0875193187900001,2.4183278227499998,2.3617511062799998,2.1588099061300001,1.91928052227,2.1007223816599998,1.9697215941899999,99,0.84510111612799999,2.75281327715,2.7959047608200001,2.76912621491,2.5484908690200001,2.96209470877,3.0980064945899999,6.1171088951000003,4.9049408649500004,3.8842220383999999,3.2707453745000001,3.1030692714899999,47]
[3.64957590638,3.2937634073400002,2.5997663633800001,6.8234819228000001,8.9359249642300007,9.1785361469600009,9.3466613830499998,6.9230802247699996,7.5067543781700001,7.5067877925199999,8.3307816559799992,7.0670447435000003,6.8249317783899999,6.7844228900000001,5.1695654820900003,4.18742045738,4.3166783202800003,5.0664343223800001,5.1035077947599996,5.5382519643999997,6.7885745507999999,7.2286292384699999,7.4352518165700001,6.7246261130700002,6.6336755146800002,6.8245365955099997,6.4484725360799997,6.1842101730100003,5.9227678237100001,5.2776854780900004,2.65882907055,2.7180134859399998,1.6351109695899999,3.3908656437800002,5.2606674625399998,3.3401648208700001,3.9257121151000001,4.9839918693799996,4.6286267388700004,3.93262043492,3.2634289388800002,3.2068522224099998,3.0039110222600001,2.7643816384000002,2.9458234977800002,2.8148227103200001,0.84510111612799999,99,1.9077121610200001,1.9508036446899999,1.9724863081299999,1.9035601660499999,2.3668737761599998,2.5027855619800001,5.2720077789699999,4.0616707334899997,3.03912092228,3.70884138628,3.64957590638,48]
[5.5408125867000004,5.15114404914,4.4571470051800004,8.7147186031199997,8.42444605837,8.6670572411000002,8.8351824771899992,6.4120568034399996,6.9952754723000004,6.9953088866600002,7.8198562647000003,6.5568085398799996,6.31469557477,6.2741866863800002,4.6593292784699996,3.6771842537600001,3.80644211666,4.5561981187700002,5.10287539611,7.0634593591400003,7.4979144892900003,8.0520072126700004,7.6021299728300002,6.2143899094600004,6.1234393110600003,6.3143003918999998,5.9382363324599998,5.6739739693900004,5.4125316201000002,4.7674492744799997,2.1485928669400001,2.2077772823299999,2.1106262605000001,4.1534956577899997,4.9620426056899998,5.1975454626699999,5.7830927569000004,6.8413725111800003,6.4860073806700003,5.7900010767200003,5.1208095806799996,5.0642328642100001,4.8612916640600004,4.6217622801999996,4.80320413959,4.6722033521200004,2.7836859222000001,1.8915563686200001,99,0.90516725539999998,1.01508540793,1.07851247016,1.4094728759599999,1.54538466177,3.5155636934299999,3.5514345298699999,2.5288847186600001,5.3561195476499996,5.5408125867000004,49]
[5.5143384622199996,4.8251378212900002,4.1311407773399997,8.7581297750899996,8.9114268957499991,9.1540380784799993,9.32216331457,6.8990376408299996,7.4822563096900003,7.4822897240500001,8.3068371020799994,7.0437893772700004,6.80167641216,6.7611675237700002,5.1463101158600004,4.1641650911500001,4.2934229540500004,5.0431789561500002,5.5898562334999999,7.4179275592899998,7.9848953266700002,8.5389880500600004,8.0891108102100002,6.7013707468400003,6.6104201484500003,6.8012812292799998,6.4252171698499998,6.1609548067800004,5.8995124574800002,5.2544301118699996,2.63557370432,2.6947581197099999,2.5976070978900001,4.6404764951799997,5.4490234430799998,4.8715392348300002,5.4570865290599997,6.5153662833299997,6.1600011528299996,5.4639948488699996,4.7948033528399998,4.7382266363600003,4.5352854362199997,4.2957560523599998,4.4771979117400003,4.3461971242699997,3.5241110067800001,1.9346478522899999,0.90516725539999998,99,0.201919933503,0.46480887773399998,0.59630740153499995,0.73221918735000002,2.702398219,4.0384153672599998,3.0158655560500001,5.6820145652200003,5.5143384622199996,50]
[5.4277847834999999,4.74728341464,4.0532863706800004,8.7103112119600006,8.9902762124100004,9.2328873951400006,9.4010126312299995,6.97788695748,7.5611056263399998,7.5611390406999996,8.3856864187400006,7.1226386939299999,6.8805257288100004,6.8400168404199997,5.2251594325099999,4.2430144077999996,4.3722722706999999,5.1220282728099997,5.6687055501500003,7.3314303723099998,8.0637446433300006,8.6178373667100008,8.1679601268699997,6.7802200634999998,6.6892694650999998,6.8801305459400002,6.5040664865000002,6.2398041234299999,5.9783617741399997,5.33327942852,2.71442302098,2.7736074363699998,2.6764564145400001,4.7193258118300001,5.5278727597300001,4.79368482817,5.3792321224100004,6.4375118766800004,6.0821467461800003,5.3861404422200003,4.7169489461799996,4.6603722297100001,4.4574310295700004,4.2179016456999996,4.3993435050900001,4.2683427176200004,2.7540867544199998,1.9724863081299999,1.01508540793,0.201919933503,99,0.26910271913599998,0.39438746803199998,0.53029925384700005,2.5004782854999998,3.5382346399600002,3.0947148727,5.5954608865099997,5.4277847834999999,51]
[5.2208197247000001,4.5403183558400002,3.8463213118800001,8.5033461531600008,8.9213500703299999,9.1639612530699992,9.3320864891500008,6.9089608154100004,7.4921794842700002,7.4922128986300001,8.3167602766600002,7.0537125518500003,6.8115995867399999,6.7710906983500001,5.1562332904400003,4.17408826573,4.3033461286300003,5.0531021307300001,5.5997794080799999,7.12446531351,7.9948185012500002,8.5489112246399994,8.0990339847899993,6.7112939214200003,6.6203433230300002,6.8112044038599997,6.4351403444299997,6.1708779813600003,5.9094356320600001,5.2643532864499996,2.6454968789,2.7046812942999998,2.60753027247,4.6503996697599996,5.4589466176599997,4.5867197693700001,5.1722670636099997,6.2305468178799996,5.8751816873799996,5.1791753834199996,4.5099838873799998,4.4534071709100003,4.2504659707699997,4.0109365869099998,4.1923784462900002,4.0613776588199997,2.54712169562,1.9035601660499999,1.07851247016,0.46480887773399998,0.26910271913599998,99,0.48568317927299998,0.62159496508900003,2.5917739967400002,3.6295303512100001,3.02578873063,5.3884958277099999,5.2208197247000001,52]
[5.60754928266,4.9270479138000001,4.2330508698399996,8.8900757111100006,9.3422549995599997,9.5848661822899999,9.7529914183800006,7.3298657446300002,7.9130844135,7.9131178278499998,8.73766520589,7.4746174810800001,7.2325045159699997,7.1919956275699999,5.5771382196600001,4.5949931949499998,4.7242510578500001,5.4740070599599999,6.0206843373099996,7.5111948714699999,8.4157234304799999,8.9698161538699992,8.5199389140200008,7.13219885065,7.04124825225,7.2321093330900004,6.8560452736600004,6.5917829105800001,6.3303405612899999,5.6852582156700002,3.0664018081300002,3.12558622352,3.0284352016899998,5.0713045989800003,5.8798515468800003,4.97344932733,5.5589966215600004,6.6172763758300004,6.2619112453300003,5.5659049413800004,4.8967134453399996,4.8401367288700001,4.6371955287200004,4.3976661448599996,4.5791080042400001,4.4481072167800004,2.9338512535699999,2.3393781303700001,1.33599535921,0.56881175574599996,0.36689182224299999,0.45818753348399999,99,0.42671602992800001,2.39689506158,3.4346514160399999,3.4466936598500002,5.7752253856599998,5.60754928266,53]
[5.7672284602600001,5.0867270914000002,4.3927300474399997,9.0497548887200008,9.5031768794100007,9.7457880621400008,9.9139132982299998,7.1660378810200003,6.7295775660499997,6.7296109804000004,6.7056296165499996,5.9011194958499997,5.6036478033400003,5.5631389149499997,5.7368173972700003,4.75467237256,4.8839302354600003,5.6336862375600001,6.1803635149099998,7.67087404907,8.5754026080799992,9.1294953314700003,8.6796180916200001,7.2918780282500002,7.2009274298600001,7.3917885106899996,7.0157244512599997,6.7514620881900003,6.4900197388900001,5.8449373932800004,3.2260809857299999,3.2852654011300002,3.1881143793,5.2309837765899996,6.0395307244899996,5.1331285049300002,5.7186757991699997,6.7769555534399997,6.4215904229399996,5.7255841189799996,5.0563926229399998,4.9998159064700003,4.7968747063299997,4.5573453224599998,4.7387871818500003,4.6077863943799997,3.09353043118,2.4990573079799998,1.49567453681,0.72849093335100001,0.52657099984800004,0.61786671108900004,0.159679177605,99,2.10794033159,3.14569668605,3.6063728374599999,5.9349045632699999,5.7672284602600001,54]
[7.7336792288399998,7.0531778599799999,6.3591808160200003,11.628415310499999,11.2772114567,11.519822639399999,11.6881030876,6.5693101876200002,6.1328498726399996,6.1328832870000003,6.2357821921000003,5.3043918024499996,5.0069201099400003,4.9664112215499996,6.9779587723100001,6.6322662922399997,6.76152415515,7.5112801572499999,8.0579476015099996,9.6373248176399997,10.4529965278,11.0070892512,10.557212011300001,9.16947194794,9.0785213495499999,9.2693824303800003,8.8933183709500003,8.6290560078799992,8.3676136585799998,7.7225313129600002,5.1034553636700002,3.5267153387399999,5.0654887572399998,7.1083581545300003,7.9168224732299999,7.0995792735099998,7.6851265677400002,8.7434063220099993,8.3880411915100002,7.6920348875500002,7.0228433915200004,6.96626667505,6.7633254749000002,6.5237960910400004,6.7052379504199999,6.5742371629600003,5.0599811997500002,4.4883668132799999,3.45715430479,2.6949417019199999,2.4930217684199998,2.5843174796600001,2.1261299461799998,2.11291134872,99,3.1311988632599999,5.4837472154000002,7.9013553318399996,7.7336792288399998,55]
[7.0649665285900003,7.7143799932899997,7.0203829493300001,10.239696009699999,8.3982205791400002,8.6408317618799995,8.8089569979700002,4.4840277358299998,4.0475674208500001,4.0476008352099999,3.69813759036,3.2191093506600001,2.9216376581499999,2.8811287697600001,4.6335657916499997,3.6546870341200002,3.78394489703,4.5337008991300003,5.08037817648,7.0409621395100004,7.4754172696500003,8.0295099930399996,7.5796327531900003,6.1918926898200004,6.1009420914300003,6.2918031722599999,5.9157391128299999,5.6514767497599996,5.3900344004600003,4.7449520548399997,1.6012803072599999,1.7887823993400001,2.8658730127499998,4.1314002780900001,4.9395453860599998,7.7607814068199996,8.34632870105,9.4046084553299991,9.0492433248200008,8.3532370208700009,7.6840455248300001,7.6274688083599997,7.42452760822,7.1849982243500001,7.3664400837399997,7.23543929627,5.06755396324,4.2224528471099996,3.7120643993,3.7326980563899999,3.5307781228800001,3.6220738341300001,3.1638863006400002,3.1506677031799999,3.1311988632599999,99,1.38582596737,5.3856686918500003,7.0649665285900003,56]
[5.9862733193000004,6.5312955027399999,5.8372984587900003,9.1610028004299995,7.1691542114600004,7.4117653941999997,7.5798906302900004,5.15676495654,5.2555400857499999,5.2555735001099997,5.2315921362599997,4.4270820155599999,4.1296103230499996,4.0891014346499999,3.4044994239699999,2.42562066644,2.5548785293499998,3.3046345314500001,3.8513118087999998,5.8118957718299997,6.2463509019699996,6.8004436253599998,6.3505663855099996,4.9628263221399997,4.8718757237499997,5.0627368045800001,4.6866727451500001,4.4224103820799998,4.1609680327799996,3.5158856871599999,0.503478365461,0.87583659727800001,1.6368066450700001,2.89860565082,3.7067507587900002,6.5776969162799999,7.1632442105100003,8.2215239647799994,7.8661588342800002,7.1701525303200002,6.5009610342900004,6.44438431781,6.2414431176700003,6.0019137338100004,6.1833555931899999,6.0523548057200003,3.8659969708999999,3.0393683565599998,2.5289799087599998,3.0296310323100002,3.1084803489600001,3.0395542068900001,3.5028678169899998,3.6387796028100001,4.10553392958,1.38582596737,99,4.1566023241699996,5.9862733193000004,57]
[1.64841654401,3.76767032381,3.2329212914799998,4.0578549653199998,10.0405769878,10.283188170500001,10.451313406600001,8.0277322483300004,8.61140640172,8.6114398160800008,9.4354336795399991,8.1716967670600003,7.9295838019499998,7.88907491356,6.2742175056500002,5.2920724809299999,5.4213303438400002,3.0138044289399999,1.8643918772200001,2.7726250069199998,3.7911741172100002,4.4630022809899996,4.2750506974700002,3.8026856211300002,3.7141332771200002,3.7782335217299998,3.3170408820800001,6.7732780758500004,6.9642287241199998,6.3823375016500004,4.2877032014900003,4.8756791123700003,3.17783349714,2.49398219953,2.0215515449999999,2.77135770749,4.6469203648899997,5.54284521752,5.3498349886599996,4.6538286846999997,3.9846371886599998,3.88600614429,3.6370659503699998,3.3975365664999999,3.5789784258899999,3.47513605358,3.3054701627399998,4.1505712788700002,5.28560030494,5.69220330973,5.6179568454500002,5.3973214995600003,5.8109253393099998,5.9468371251300001,7.9170161567799999,5.3856684824599999,4.1566021147800001,99,1.64841654401,58]
[99,1.46840108534,2.24209557535,3.2136741365799999,12.1695790106,12.412190193300001,12.580315429400001,10.403350598699999,10.9870247521,10.987058166500001,11.811052029900001,10.369255602599999,10.303566978799999,10.2623572665,8.4713223090599996,7.5000037960399997,7.3706179903400004,5.7637177469900003,2.4077449873400001,2.62997834383,3.8803009302399998,4.3203556178999998,4.52697819601,7.0722484658400004,6.9812978674400004,7.1721589482799999,3.5689683806099999,6.2391641352200002,6.4301147834899997,6.3151615955400002,6.1036303332699999,6.1627699540299998,5.0551077641099997,3.03733530965,2.5649046551199999,1.42261906675,2.7718757357100001,3.5256809443399999,4.5174602941700002,3.8214539902100002,2.8833428344200001,2.9411622981900001,3.19740128735,3.1567124103299999,3.33815426972,3.3074599505800002,3.13779405973,3.8609778618999999,5.6226363754699999,5.5245272067300002,5.4502807424400004,5.2296453965499996,5.64324923631,5.7791610221200003,7.7493400537800001,7.4414801315599997,6.4839221849899999,1.64841654401,99,"59/D"]
["1/D",2,3,4,5,6,7,8,9,10,11,12,13,14,15,16,17,18,19,20,21,22,23,24,25,26,27,28,29,30,31,32,33,34,35,36,37,38,39,40,41,42,43,44,45,46,47,48,49,50,51,52,53,54,55,56,57,58,"59/D"]

{"sheet":"start","index":3,"n_rows":59,"n_cols":2,"rows_kept":59,"cut":false,"hidden":false,"merged":[]}
[150,"1/D"]
[150,2]
[150,3]
[150,4]
[150,5]
[150,6]
[150,7]
[150,8]
[150,9]
[150,10]
[150,11]
[150,12]
[150,13]
[150,14]
[150,15]
[150,16]
[150,17]
[150,18]
[150,19]
[150,20]
[150,21]
[150,22]
[150,23]
[150,24]
[150,25]
[150,26]
[150,27]
[150,28]
[150,29]
[150,30]
[150,31]
[150,32]
[150,33]
[150,34]
[150,35]
[150,36]
[150,37]
[150,38]
[150,39]
[150,40]
[150,41]
[150,42]
[150,43]
[150,44]
[150,45]
[150,46]
[150,47]
[150,48]
[150,49]
[150,50]
[150,51]
[150,52]
[150,53]
[150,54]
[150,55]
[150,56]
[150,57]
[150,58]
[150,"59/D"]

{"sheet":"end","index":4,"n_rows":59,"n_cols":2,"rows_kept":59,"cut":false,"hidden":false,"merged":[]}
[360,"1/D"]
[360,2]
[360,3]
[360,4]
[360,5]
[360,6]
[360,7]
[360,8]
[360,9]
[360,10]
[360,11]
[360,12]
[360,13]
[360,14]
[360,15]
[360,16]
[360,17]
[360,18]
[360,19]
[360,20]
[360,21]
[360,22]
[360,23]
[360,24]
[360,25]
[360,26]
[360,27]
[360,28]
[360,29]
[360,30]
[360,31]
[360,32]
[360,33]
[360,34]
[360,35]
[360,36]
[360,37]
[360,38]
[360,39]
[360,40]
[360,41]
[360,42]
[360,43]
[360,44]
[360,45]
[360,46]
[360,47]
[360,48]
[360,49]
[360,50]
[360,51]
[360,52]
[360,53]
[360,54]
[360,55]
[360,56]
[360,57]
[360,58]
[360,"59/D"]

{"sheet":"service","index":5,"n_rows":59,"n_cols":2,"rows_kept":59,"cut":false,"hidden":false,"merged":[]}
[0,"1/D"]
[4.4000000000000004,2]
[5.6,3]
[6,4]
[6.45,5]
[5.6,6]
[6,7]
[6,8]
[4.4000000000000004,9]
[4.8,10]
[5.2,11]
[6,12]
[6.4,13]
[8.4,14]
[6.8,15]
[5.6,16]
[5.2,17]
[5.6,18]
[5.2,19]
[4.4000000000000004,20]
[5.6,21]
[7.2,22]
[6,23]
[6.4,24]
[8.8000000000000007,25]
[5.2,26]
[8.8000000000000007,27]
[6.8,28]
[7.2,29]
[4.8,30]
[6,31]
[6.4,32]
[5.2,33]
[6,34]
[5.6,35]
[5.2,36]
[6.4,37]
[6,38]
[8,39]
[5.2,40]
[6.8,41]
[5.6,42]
[5.6,43]
[6.8,44]
[6,45]
[4.8,46]
[5.2,47]
[5.2,48]
[6.8,49]
[5.2,50]
[5.6,51]
[5.2,52]
[5.6,53]
[4.8,54]
[6.4,55]
[6.4,56]
[5.6,57]
[8,58]
[0,"59/D"]

{"sheet":"demand","index":6,"n_rows":59,"n_cols":2,"rows_kept":59,"cut":false,"hidden":false,"merged":[]}
[0,"1/D"]
[1,2]
[4,3]
[5,4]
[6,5]
[4,6]
[5,7]
[5,8]
[1,9]
[2,10]
[3,11]
[5,12]
[6,13]
[11,14]
[7,15]
[4,16]
[3,17]
[4,18]
[3,19]
[1,20]
[4,21]
[8,22]
[5,23]
[6,24]
[12,25]
[3,26]
[12,27]
[7,28]
[8,29]
[2,30]
[5,31]
[6,32]
[3,33]
[5,34]
[4,35]
[3,36]
[6,37]
[5,38]
[10,39]
[3,40]
[7,41]
[4,42]
[4,43]
[7,44]
[5,45]
[2,46]
[3,47]
[3,48]
[7,49]
[3,50]
[4,51]
[3,52]
[4,53]
[2,54]
[6,55]
[6,56]
[4,57]
[10,58]
[0,"59/D"]

{"sheet":"capacity","index":7,"n_rows":5,"n_cols":2,"rows_kept":5,"cut":false,"hidden":false,"merged":[]}
[90,"TRUCK 1"]
[90,"TRUCK 2"]
[90,"TRUCK 3"]
[90,"TRUCK 4"]
[90,"TRUCK 5"]

{"sheet":"em","index":8,"n_rows":32,"n_cols":3,"rows_kept":32,"cut":false,"hidden":false,"merged":[]}
[0.7,"TRUCK 1","Local Roads"]
[0.7,"TRUCK 2","Assumed Speed"]
[0.7,"TRUCK 3","15 mph"]
[0.7,"TRUCK 4"]
[0.7,"TRUCK 5"]
[]
[]
[]
[]
[]
[]
[]
[]
[]
[]
[0.4,"TRUCK 1","Arterial Roads"]
[0.4,"TRUCK 2","Assumed Speed"]
[0.4,"TRUCK 3","40 mph"]
[0.4,"TRUCK 4"]
[0.4,"TRUCK 5"]
[]
[]
[]
[]
[]
[]
[]
[]
[]
[]
[-1,"Start Period"]
[-1,"End Period"]

{"sheet":"costin","index":9,"n_rows":20,"n_cols":3,"rows_kept":20,"cut":false,"hidden":false,"merged":[]}
[0.2,"TRUCK 1","$/mi"]
[0.2,"TRUCK 2"]
[0.2,"TRUCK 3"]
[0.2,"TRUCK 4"]
[0.2,"TRUCK 5"]
[]
[]
[]
[]
[]
[]
[]
[]
[]
[]
[0.3,"TRUCK 1","$/min"]
[0.3,"TRUCK 2"]
[0.3,"TRUCK 3"]
[0.3,"TRUCK 4"]
[0.3,"TRUCK 5"]

{"sheet":"truckin","index":10,"n_rows":9,"n_cols":6,"rows_kept":9,"cut":false,"hidden":false,"merged":[[2,0,2,5]]}
[]
[]
["Run 1"]
["ID","Capacity","Em 15 mph","Em 55mph","Cost Dist","Cost Time"]
[1,{"$f":"capacity!A1","v":90},{"$f":"em!A1","v":0.7},{"$f":"em!A16","v":0.4},{"$f":"costin!A1","v":0.2},{"$f":"costin!A16","v":0.3}]
[2,{"$f":"capacity!A2","v":90},{"$f":"em!A2","v":0.7},{"$f":"em!A17","v":0.4},{"$f":"costin!A2","v":0.2},{"$f":"costin!A17","v":0.3}]
[3,{"$f":"capacity!A3","v":90},{"$f":"em!A3","v":0.7},{"$f":"em!A18","v":0.4},{"$f":"costin!A3","v":0.2},{"$f":"costin!A18","v":0.3}]
[4,{"$f":"capacity!A4","v":90},{"$f":"em!A4","v":0.7},{"$f":"em!A19","v":0.4},{"$f":"costin!A4","v":0.2},{"$f":"costin!A19","v":0.3}]
[5,{"$f":"capacity!A5","v":90},{"$f":"em!A5","v":0.7},{"$f":"em!A20","v":0.4},{"$f":"costin!A5","v":0.2},{"$f":"costin!A20","v":0.3}]

{"sheet":"cost","index":11,"n_rows":21,"n_cols":4,"rows_kept":21,"cut":false,"hidden":false,"merged":[]}
[]
[2.2744603157043457,3.8888881206512451,3.4714710712432861,4.9592685699462891]
[2.1974427700042725,2.9346041679382324,2.9940075874328613,3.6046526432037354]
[2.7033834457397461,2.6449661254882813,2.3252949714660645,3.061985969543457]
[3.1386146545410156,3.0228173732757568,2.1768379211425781,1.9184819459915161]
[2.6240050792694092,2.2099394798278809,4.3566446304321289,1.6912492513656616]
[2.00726318359375,2.6896243095397949,2.4732294082641602,3.5843222141265869]
[2.489295482635498,2.8366043567657471,3.2295594215393066]
[3.3267700672149658,3.023564338684082,6.0792593955993652]
[3.2696342468261719,3.2947940826416016,2.4444987773895264]
[2.2919373512268066,2.6344776153564453,3.9647030830383301]
[2.2153298854827881,2.4570467472076416,4.3927345275878906]
[1.8926831483840942,1.440021276473999,3.0355174541473389]
[2.6410307884216309,2.7798225879669189,4.2254114151000977]
[2.7170708179473877,3.7405991554260254,2.189178466796875]
[3.5122413635253906,2.1260449886322021,2.2624928951263428]
[2.0124070644378662,3.6865098476409912,6.3960700035095215]
[2.6497683525085449,3.1731705665588379]
[1.7735921144485474,2.4796614646911621]
[2.5482680797576904,1.7094887495040894]
[0.92470633983612061]

{"sheet":"congestion","index":12,"n_rows":21,"n_cols":4,"rows_kept":21,"cut":false,"hidden":false,"merged":[]}
[]
[0,0,0,0]
[0,0,0,0]
[0,0,0,0]
[0,0,0,0]
[0,0,0,0]
[0,0,0,0]
[0,0,0]
[0,0,0]
[0,0,0]
[0,0,0]
[0,0,0]
[0,0,0]
[0,0,0]
[0,0,0]
[0,0,0]
[0,0,0]
[0,0]
[0,0]
[0,0]
[0]

{"sheet":"emroutes","index":13,"n_rows":21,"n_cols":4,"rows_kept":21,"cut":false,"hidden":false,"merged":[]}
[]
[0.58736044288835254,1.2854696737869904,0.65936662742932828,2.0918581897911155]
[0.31842640839732317,0.77206446572865683,0.80862063004938611,1.0367096141441769]
[0.70362019598475778,0.66767243012509436,0.32325804800372021,0.85045199114472192]
[0.97145514494780949,0.53096470538399054,0.37959116501194906,0.14675673108404566]
[0.50707983658407829,0.10457694127631784,1.5733199464282939,8.0767974604736587E-2]
[0.20139134918536492,0.62130756496620398,0.19275696486350258,2.2057354177560184]
[0.35033464413159293,0.71175543355798221,0.80588386662460532]
[1.0872434866171903,0.60527070347923617,2.4856974148557773]
[1.1259291009056509,0.91987363691118518,0.61815387391921039]
[0.30273127084824736,0.66121555488887951,1.2582786931698133]
[0.10789660830698473,0.69971968851863575,1.1524515250768657]
[0.13088306707230965,1.3365742746285083E-5,0.76031683986560361]
[0.44370986540779206,0.52912429507656622,1.5664050144252533]
[0.56435069143348049,1.3419096208720114,0.23949569961556397]
[0.68445572756718498,0.42218256421501033,0.20153607161432144]
[0.27840252573092089,0.64400335356439764,3.9360424387276023]
[0.37524446790837823,0.3281037056023261]
[5.7596604167456274E-2,0.71363800061803473]
[0.60816295639833406,1.0519913532078924]
[0.56904763517947043]

{"sheet":"visited","index":14,"n_rows":21,"n_cols":4,"rows_kept":21,"cut":false,"hidden":false,"merged":[]}
[150,150,150,150]
[156.60260009765625,160.82051086425781,160.47262573242187,163.04446411132812]
[163.39669799804687,169.31575012207031,169.10494995117187,173.33212280273437]
[171.23527526855469,177.01951599121094,176.31716918945312,182.12132263183594]
[180.07823181152344,186.21063232421875,182.94064331054687,188.27166748046875]
[187.97978210449219,193.40280151367187,194.84059143066406,193.77455139160156]
[194.33500671386719,201.33270263671875,202.763427734375,202.04606628417969]
[202.04876708984375,209.60179138183594,212.18548583984375]
[211.325927734375,218.67155456542969,228.30685424804687]
[220.34815979003906,228.12107849121094,235.4249267578125]
[227.4833984375,235.80064392089844,246.54347229003906]
[234.68800354003906,242.82460021972656,259.26516723632812]
[240.77880859375,247.62464904785156,268.11636352539062]
[248.84272766113281,256.00885009765625,279.59039306640625]
[256.95904541015625,266.24099731445312,286.48849487304687]
[267.5257568359375,272.62417602539062,293.69424438476562]
[273.769775390625,283.83920288085937,308.45440673828125]
[281.9769287109375,293.86959838867187]
[287.79290771484375,300.94573974609375]
[295.27352905273438,304.89071655273438]
[297.407470703125]

{"sheet":"route","index":15,"n_rows":21,"n_cols":4,"rows_kept":21,"cut":false,"hidden":false,"merged":[]}
[1,1,1,1]
[2,4,58,52]
[3,21,35,55]
[47,26,34,53]
[33,29,19,51]
[31,28,23,50]
[57,18,22,59]
[32,16,24]
[48,15,49]
[46,12,54]
[45,11,56]
[44,9,14]
[43,10,8]
[37,13,6]
[38,17,7]
[39,30,5]
[40,27,59]
[41,25]
[42,20]
[36,59]
[59]

{"sheet":"included","index":16,"n_rows":59,"n_cols":1,"rows_kept":59,"cut":false,"hidden":false,"merged":[]}
["Depot"]
[1]
[1]
[1]
[1]
[1]
[1]
[1]
[1]
[1]
[1]
[1]
[1]
[1]
[1]
[1]
[1]
[1]
[1]
[1]
[1]
[1]
[1]
[1]
[1]
[1]
[1]
[1]
[1]
[1]
[1]
[1]
[1]
[1]
[1]
[1]
[1]
[1]
[1]
[1]
[1]
[1]
[1]
[1]
[1]
[1]
[1]
[1]
[1]
[1]
[1]
[1]
[1]
[1]
[1]
[1]
[1]
[1]
["Depot"]